BEGIN:VCALENDAR
VERSION:2.0
PRODID:-//Ernie Bedell - ECPv6.15.17.1//NONSGML v1.0//EN
CALSCALE:GREGORIAN
METHOD:PUBLISH
X-ORIGINAL-URL:https://erniebedell.com
X-WR-CALDESC:Events for Ernie Bedell
REFRESH-INTERVAL;VALUE=DURATION:PT1H
X-Robots-Tag:noindex
X-PUBLISHED-TTL:PT1H
BEGIN:VTIMEZONE
TZID:UTC
BEGIN:STANDARD
TZOFFSETFROM:+0000
TZOFFSETTO:+0000
TZNAME:UTC
DTSTART:20240101T000000
END:STANDARD
END:VTIMEZONE
BEGIN:VEVENT
DTSTART;TZID=UTC:20260413T190000
DTEND;TZID=UTC:20260413T210000
DTSTAMP:20260420T035316
CREATED:20260310T142242Z
LAST-MODIFIED:20260310T142242Z
UID:1281-1776106800-1776114000@erniebedell.com
SUMMARY:Arthur Duncan Trio
DESCRIPTION:
URL:https://erniebedell.com/event/arthur-duncan-trio-164/
LOCATION:Where House Bar\, 2463 W. Sunshine St. #120\, SPRINGFIELD\, MO\, 65807\, United States
END:VEVENT
BEGIN:VEVENT
DTSTART;TZID=UTC:20260406T190000
DTEND;TZID=UTC:20260406T210000
DTSTAMP:20260420T035316
CREATED:20260310T142212Z
LAST-MODIFIED:20260310T142212Z
UID:1279-1775502000-1775509200@erniebedell.com
SUMMARY:Arthur Duncan Trio
DESCRIPTION:
URL:https://erniebedell.com/event/arthur-duncan-trio-163/
LOCATION:Where House Bar\, 2463 W. Sunshine St. #120\, SPRINGFIELD\, MO\, 65807\, United States
END:VEVENT
BEGIN:VEVENT
DTSTART;TZID=UTC:20260330T190000
DTEND;TZID=UTC:20260330T210000
DTSTAMP:20260420T035316
CREATED:20260310T142135Z
LAST-MODIFIED:20260310T142135Z
UID:1277-1774897200-1774904400@erniebedell.com
SUMMARY:Arthur Duncan Trio
DESCRIPTION:
URL:https://erniebedell.com/event/arthur-duncan-trio-162/
LOCATION:Where House Bar\, 2463 W. Sunshine St. #120\, SPRINGFIELD\, MO\, 65807\, United States
END:VEVENT
BEGIN:VEVENT
DTSTART;TZID=UTC:20260323T190000
DTEND;TZID=UTC:20260323T210000
DTSTAMP:20260420T035316
CREATED:20260310T142057Z
LAST-MODIFIED:20260310T142057Z
UID:1275-1774292400-1774299600@erniebedell.com
SUMMARY:Arthur Duncan Trio
DESCRIPTION:
URL:https://erniebedell.com/event/arthur-duncan-trio-161/
LOCATION:Where House Bar\, 2463 W. Sunshine St. #120\, SPRINGFIELD\, MO\, 65807\, United States
END:VEVENT
BEGIN:VEVENT
DTSTART;TZID=UTC:20260316T190000
DTEND;TZID=UTC:20260316T210000
DTSTAMP:20260420T035316
CREATED:20260310T141951Z
LAST-MODIFIED:20260310T142028Z
UID:1273-1773687600-1773694800@erniebedell.com
SUMMARY:Arthur Duncan Trio
DESCRIPTION:
URL:https://erniebedell.com/event/arthur-duncan-trio-160/
LOCATION:Where House Bar\, 2463 W. Sunshine St. #120\, SPRINGFIELD\, MO\, 65807\, United States
END:VEVENT
BEGIN:VEVENT
DTSTART;TZID=UTC:20251201T190000
DTEND;TZID=UTC:20251201T210000
DTSTAMP:20260420T035316
CREATED:20251014T154509Z
LAST-MODIFIED:20260310T141856Z
UID:1270-1764615600-1764622800@erniebedell.com
SUMMARY:Arthur Duncan Trio
DESCRIPTION:
URL:https://erniebedell.com/event/arthur-duncan-trio-159/
LOCATION:Where House Bar\, 2463 W. Sunshine St. #120\, SPRINGFIELD\, MO\, 65807\, United States
END:VEVENT
BEGIN:VEVENT
DTSTART;TZID=UTC:20251124T193000
DTEND;TZID=UTC:20251124T210000
DTSTAMP:20260420T035316
CREATED:20251014T154435Z
LAST-MODIFIED:20251014T154435Z
UID:1268-1764012600-1764018000@erniebedell.com
SUMMARY:Arthur Duncan Trio
DESCRIPTION:
URL:https://erniebedell.com/event/arthur-duncan-trio-158/
LOCATION:Where House Bar\, 2463 W. Sunshine St. #120\, SPRINGFIELD\, MO\, 65807\, United States
END:VEVENT
BEGIN:VEVENT
DTSTART;TZID=UTC:20251117T190000
DTEND;TZID=UTC:20251117T210000
DTSTAMP:20260420T035316
CREATED:20251014T154408Z
LAST-MODIFIED:20251014T154408Z
UID:1266-1763406000-1763413200@erniebedell.com
SUMMARY:Arthur Duncan Trio
DESCRIPTION:
URL:https://erniebedell.com/event/arthur-duncan-trio-157/
LOCATION:Where House Bar\, 2463 W. Sunshine St. #120\, SPRINGFIELD\, MO\, 65807\, United States
END:VEVENT
BEGIN:VEVENT
DTSTART;TZID=UTC:20251110T190000
DTEND;TZID=UTC:20251110T210000
DTSTAMP:20260420T035316
CREATED:20251014T154343Z
LAST-MODIFIED:20251014T154343Z
UID:1264-1762801200-1762808400@erniebedell.com
SUMMARY:Arthur Duncan Trio
DESCRIPTION:
URL:https://erniebedell.com/event/arthur-duncan-trio-156/
LOCATION:Where House Bar\, 2463 W. Sunshine St. #120\, SPRINGFIELD\, MO\, 65807\, United States
END:VEVENT
BEGIN:VEVENT
DTSTART;TZID=UTC:20251103T190000
DTEND;TZID=UTC:20251103T210000
DTSTAMP:20260420T035316
CREATED:20251014T154312Z
LAST-MODIFIED:20251014T154312Z
UID:1262-1762196400-1762203600@erniebedell.com
SUMMARY:Arthur Duncan Trio
DESCRIPTION:
URL:https://erniebedell.com/event/arthur-duncan-trio-155/
LOCATION:Where House Bar\, 2463 W. Sunshine St. #120\, SPRINGFIELD\, MO\, 65807\, United States
END:VEVENT
BEGIN:VEVENT
DTSTART;TZID=UTC:20251027T190000
DTEND;TZID=UTC:20251027T210000
DTSTAMP:20260420T035316
CREATED:20250915T163234Z
LAST-MODIFIED:20250915T163234Z
UID:1259-1761591600-1761598800@erniebedell.com
SUMMARY:Arthur Duncan Trio
DESCRIPTION:
URL:https://erniebedell.com/event/arthur-duncan-trio-154/
LOCATION:Where House Bar\, 2463 W. Sunshine St. #120\, SPRINGFIELD\, MO\, 65807\, United States
END:VEVENT
BEGIN:VEVENT
DTSTART;TZID=UTC:20251020T190000
DTEND;TZID=UTC:20251020T210000
DTSTAMP:20260420T035316
CREATED:20250915T163156Z
LAST-MODIFIED:20250915T163156Z
UID:1257-1760986800-1760994000@erniebedell.com
SUMMARY:Arthur Duncan Trio
DESCRIPTION:
URL:https://erniebedell.com/event/arthur-duncan-trio-153/
LOCATION:Where House Bar\, 2463 W. Sunshine St. #120\, SPRINGFIELD\, MO\, 65807\, United States
END:VEVENT
BEGIN:VEVENT
DTSTART;TZID=UTC:20251013T190000
DTEND;TZID=UTC:20251013T210000
DTSTAMP:20260420T035316
CREATED:20250915T163125Z
LAST-MODIFIED:20250915T163125Z
UID:1255-1760382000-1760389200@erniebedell.com
SUMMARY:Arthur Duncan Trio
DESCRIPTION:
URL:https://erniebedell.com/event/arthur-duncan-trio-152/
LOCATION:Where House Bar\, 2463 W. Sunshine St. #120\, SPRINGFIELD\, MO\, 65807\, United States
END:VEVENT
BEGIN:VEVENT
DTSTART;TZID=UTC:20251006T190000
DTEND;TZID=UTC:20251006T210000
DTSTAMP:20260420T035316
CREATED:20250915T163058Z
LAST-MODIFIED:20250915T163058Z
UID:1253-1759777200-1759784400@erniebedell.com
SUMMARY:Arthur Duncan Trio
DESCRIPTION:
URL:https://erniebedell.com/event/arthur-duncan-trio-151/
LOCATION:Where House Bar\, 2463 W. Sunshine St. #120\, SPRINGFIELD\, MO\, 65807\, United States
END:VEVENT
BEGIN:VEVENT
DTSTART;TZID=UTC:20250929T190000
DTEND;TZID=UTC:20250929T210000
DTSTAMP:20260420T035316
CREATED:20250915T163028Z
LAST-MODIFIED:20250915T163028Z
UID:1251-1759172400-1759179600@erniebedell.com
SUMMARY:Arthur Duncan Trio
DESCRIPTION:
URL:https://erniebedell.com/event/arthur-duncan-trio-150/
LOCATION:Where House Bar\, 2463 W. Sunshine St. #120\, SPRINGFIELD\, MO\, 65807\, United States
END:VEVENT
BEGIN:VEVENT
DTSTART;TZID=UTC:20250922T190000
DTEND;TZID=UTC:20250922T210000
DTSTAMP:20260420T035316
CREATED:20250915T162955Z
LAST-MODIFIED:20250915T162955Z
UID:1249-1758567600-1758574800@erniebedell.com
SUMMARY:Arthur Duncan Trio
DESCRIPTION:
URL:https://erniebedell.com/event/arthur-duncan-trio-149/
LOCATION:Where House Bar\, 2463 W. Sunshine St. #120\, SPRINGFIELD\, MO\, 65807\, United States
END:VEVENT
BEGIN:VEVENT
DTSTART;TZID=UTC:20250915T190000
DTEND;TZID=UTC:20250915T210000
DTSTAMP:20260420T035316
CREATED:20250915T162917Z
LAST-MODIFIED:20250915T162917Z
UID:1247-1757962800-1757970000@erniebedell.com
SUMMARY:Arthur Duncan Trio
DESCRIPTION:
URL:https://erniebedell.com/event/arthur-duncan-trio-148/
LOCATION:Where House Bar\, 2463 W. Sunshine St. #120\, SPRINGFIELD\, MO\, 65807\, United States
END:VEVENT
BEGIN:VEVENT
DTSTART;TZID=UTC:20250820T200000
DTEND;TZID=UTC:20250821T003000
DTSTAMP:20260420T035316
CREATED:20250430T140750Z
LAST-MODIFIED:20250430T140750Z
UID:1212-1755720000-1755736200@erniebedell.com
SUMMARY:Arthur Duncan Trio
DESCRIPTION:
URL:https://erniebedell.com/event/arthur-duncan-trio-132/
LOCATION:Muddy Creek Corral\, 7502 Mo-14\, Sparta\, MO\, 65753\, United States
END:VEVENT
BEGIN:VEVENT
DTSTART;TZID=UTC:20250815T180000
DTEND;TZID=UTC:20250815T210000
DTSTAMP:20260420T035316
CREATED:20250429T145538Z
LAST-MODIFIED:20250429T145538Z
UID:1189-1755280800-1755291600@erniebedell.com
SUMMARY:Arthur Duncan Trio
DESCRIPTION:
URL:https://erniebedell.com/event/arthur-duncan-trio-124/
LOCATION:Jazzy B’s\, 320 SW Blue Pkwy\, Lee's Summit\, MO\, 64063\, United States
END:VEVENT
BEGIN:VEVENT
DTSTART;TZID=UTC:20250809T200000
DTEND;TZID=UTC:20250810T003000
DTSTAMP:20260420T035316
CREATED:20250430T141439Z
LAST-MODIFIED:20250430T141439Z
UID:1208-1754769600-1754785800@erniebedell.com
SUMMARY:Arthur Duncan Trio
DESCRIPTION:
URL:https://erniebedell.com/event/arthur-duncan-trio-136/
LOCATION:Muddy Creek Corral\, 7502 Mo-14\, Sparta\, MO\, 65753\, United States
END:VEVENT
BEGIN:VEVENT
DTSTART;TZID=UTC:20250809T200000
DTEND;TZID=UTC:20250810T003000
DTSTAMP:20260420T035316
CREATED:20250430T140701Z
LAST-MODIFIED:20250430T140701Z
UID:1210-1754769600-1754785800@erniebedell.com
SUMMARY:Arthur Duncan Trio
DESCRIPTION:
URL:https://erniebedell.com/event/arthur-duncan-trio-131/
LOCATION:Muddy Creek Corral\, 7502 Mo-14\, Sparta\, MO\, 65753\, United States
END:VEVENT
BEGIN:VEVENT
DTSTART;TZID=UTC:20250804T190000
DTEND;TZID=UTC:20250804T210000
DTSTAMP:20260420T035316
CREATED:20250530T135405Z
LAST-MODIFIED:20250530T135405Z
UID:1244-1754334000-1754341200@erniebedell.com
SUMMARY:Arthur Duncan Trio
DESCRIPTION:
URL:https://erniebedell.com/event/arthur-duncan-trio-147/
LOCATION:Where House Bar\, 2463 W. Sunshine St. #120\, SPRINGFIELD\, MO\, 65807\, United States
END:VEVENT
BEGIN:VEVENT
DTSTART;TZID=UTC:20250728T190000
DTEND;TZID=UTC:20250728T210000
DTSTAMP:20260420T035316
CREATED:20250530T135303Z
LAST-MODIFIED:20250530T135303Z
UID:1242-1753729200-1753736400@erniebedell.com
SUMMARY:Arthur Duncan Trio
DESCRIPTION:
URL:https://erniebedell.com/event/arthur-duncan-trio-146/
LOCATION:Where House Bar\, 2463 W. Sunshine St. #120\, SPRINGFIELD\, MO\, 65807\, United States
END:VEVENT
BEGIN:VEVENT
DTSTART;TZID=UTC:20250721T190000
DTEND;TZID=UTC:20250721T210000
DTSTAMP:20260420T035316
CREATED:20250530T135228Z
LAST-MODIFIED:20250530T135228Z
UID:1240-1753124400-1753131600@erniebedell.com
SUMMARY:Arthur Duncan Trio
DESCRIPTION:
URL:https://erniebedell.com/event/arthur-duncan-trio-145/
LOCATION:Where House Bar\, 2463 W. Sunshine St. #120\, SPRINGFIELD\, MO\, 65807\, United States
END:VEVENT
BEGIN:VEVENT
DTSTART;TZID=UTC:20250716T080000
DTEND;TZID=UTC:20250716T170000
DTSTAMP:20260420T035316
CREATED:20250430T140125Z
LAST-MODIFIED:20250430T140125Z
UID:1203-1752652800-1752685200@erniebedell.com
SUMMARY:Arthur Duncan Trio
DESCRIPTION:
URL:https://erniebedell.com/event/arthur-duncan-trio-129/
LOCATION:1906 Wine Bar and Pub\, 115 W Broadway St\, Bolivar\, MO\, 65813\, United States
END:VEVENT
BEGIN:VEVENT
DTSTART;TZID=UTC:20250714T190000
DTEND;TZID=UTC:20250714T210000
DTSTAMP:20260420T035316
CREATED:20250530T135154Z
LAST-MODIFIED:20250530T135154Z
UID:1238-1752519600-1752526800@erniebedell.com
SUMMARY:Arthur Duncan Trio
DESCRIPTION:
URL:https://erniebedell.com/event/arthur-duncan-trio-144/
LOCATION:Where House Bar\, 2463 W. Sunshine St. #120\, SPRINGFIELD\, MO\, 65807\, United States
END:VEVENT
BEGIN:VEVENT
DTSTART;TZID=UTC:20250711T180000
DTEND;TZID=UTC:20250711T210000
DTSTAMP:20260420T035316
CREATED:20250430T141034Z
LAST-MODIFIED:20250430T141034Z
UID:1218-1752256800-1752267600@erniebedell.com
SUMMARY:Arthur Duncan Trio
DESCRIPTION:
URL:https://erniebedell.com/event/arthur-duncan-trio-135/
LOCATION:Pappy’s Place\, 943 N Main Ave\, Springfield\, 65802\, United States
END:VEVENT
BEGIN:VEVENT
DTSTART;TZID=UTC:20250707T190000
DTEND;TZID=UTC:20250707T210000
DTSTAMP:20260420T035316
CREATED:20250530T135124Z
LAST-MODIFIED:20250530T135124Z
UID:1236-1751914800-1751922000@erniebedell.com
SUMMARY:Arthur Duncan Trio
DESCRIPTION:
URL:https://erniebedell.com/event/arthur-duncan-trio-143/
LOCATION:Where House Bar\, 2463 W. Sunshine St. #120\, SPRINGFIELD\, MO\, 65807\, United States
END:VEVENT
BEGIN:VEVENT
DTSTART;TZID=UTC:20250630T190000
DTEND;TZID=UTC:20250630T210000
DTSTAMP:20260420T035316
CREATED:20250530T135026Z
LAST-MODIFIED:20250530T135026Z
UID:1234-1751310000-1751317200@erniebedell.com
SUMMARY:Arthur Duncan Trio
DESCRIPTION:
URL:https://erniebedell.com/event/arthur-duncan-trio-142/
LOCATION:Where House Bar\, 2463 W. Sunshine St. #120\, SPRINGFIELD\, MO\, 65807\, United States
END:VEVENT
BEGIN:VEVENT
DTSTART;TZID=UTC:20250627T190000
DTEND;TZID=UTC:20250627T213000
DTSTAMP:20260420T035316
CREATED:20250430T135856Z
LAST-MODIFIED:20250430T135856Z
UID:1199-1751050800-1751059800@erniebedell.com
SUMMARY:Arthur Duncan Trio
DESCRIPTION:
URL:https://erniebedell.com/event/arthur-duncan-trio-127/
LOCATION:1906 Wine Bar and Pub\, 115 W Broadway St\, Bolivar\, MO\, 65813\, United States
END:VEVENT
END:VCALENDAR