BEGIN:VCALENDAR
VERSION:2.0
PRODID:-//Ernie Bedell - ECPv6.15.17.1//NONSGML v1.0//EN
CALSCALE:GREGORIAN
METHOD:PUBLISH
X-ORIGINAL-URL:https://erniebedell.com
X-WR-CALDESC:Events for Ernie Bedell
REFRESH-INTERVAL;VALUE=DURATION:PT1H
X-Robots-Tag:noindex
X-PUBLISHED-TTL:PT1H
BEGIN:VTIMEZONE
TZID:UTC
BEGIN:STANDARD
TZOFFSETFROM:+0000
TZOFFSETTO:+0000
TZNAME:UTC
DTSTART:20250101T000000
END:STANDARD
END:VTIMEZONE
BEGIN:VEVENT
DTSTART;TZID=UTC:20260427T190000
DTEND;TZID=UTC:20260427T210000
DTSTAMP:20260420T064932
CREATED:20260402T141059Z
LAST-MODIFIED:20260402T141059Z
UID:1289-1777316400-1777323600@erniebedell.com
SUMMARY:Arthur Duncan Trio
DESCRIPTION:
URL:https://erniebedell.com/event/arthur-duncan-trio-166/
LOCATION:Where House Bar\, 2463 W. Sunshine St. #120\, SPRINGFIELD\, MO\, 65807\, United States
END:VEVENT
BEGIN:VEVENT
DTSTART;TZID=UTC:20260504T190000
DTEND;TZID=UTC:20260504T210000
DTSTAMP:20260420T064932
CREATED:20260402T141205Z
LAST-MODIFIED:20260402T141205Z
UID:1291-1777921200-1777928400@erniebedell.com
SUMMARY:Arthur Duncan Trio
DESCRIPTION:
URL:https://erniebedell.com/event/arthur-duncan-trio-167/
LOCATION:Where House Bar\, 2463 W. Sunshine St. #120\, SPRINGFIELD\, MO\, 65807\, United States
END:VEVENT
BEGIN:VEVENT
DTSTART;TZID=UTC:20260511T190000
DTEND;TZID=UTC:20260511T210000
DTSTAMP:20260420T064932
CREATED:20260402T141236Z
LAST-MODIFIED:20260402T141236Z
UID:1293-1778526000-1778533200@erniebedell.com
SUMMARY:Arthur Duncan Trio
DESCRIPTION:
URL:https://erniebedell.com/event/arthur-duncan-trio-168/
LOCATION:Where House Bar\, 2463 W. Sunshine St. #120\, SPRINGFIELD\, MO\, 65807\, United States
END:VEVENT
BEGIN:VEVENT
DTSTART;TZID=UTC:20260518T190000
DTEND;TZID=UTC:20260518T210000
DTSTAMP:20260420T064932
CREATED:20260402T141457Z
LAST-MODIFIED:20260402T141457Z
UID:1297-1779130800-1779138000@erniebedell.com
SUMMARY:Arthur Duncan Trio
DESCRIPTION:
URL:https://erniebedell.com/event/arthur-duncan-trio-170/
LOCATION:Where House Bar\, 2463 W. Sunshine St. #120\, SPRINGFIELD\, MO\, 65807\, United States
END:VEVENT
BEGIN:VEVENT
DTSTART;TZID=UTC:20260525T190000
DTEND;TZID=UTC:20260525T210000
DTSTAMP:20260420T064932
CREATED:20260402T141305Z
LAST-MODIFIED:20260402T141421Z
UID:1295-1779735600-1779742800@erniebedell.com
SUMMARY:Arthur Duncan Trio
DESCRIPTION:
URL:https://erniebedell.com/event/arthur-duncan-trio-169/
LOCATION:Where House Bar\, 2463 W. Sunshine St. #120\, SPRINGFIELD\, MO\, 65807\, United States
END:VEVENT
END:VCALENDAR