BEGIN:VCALENDAR
VERSION:2.0
PRODID:-//Ernie Bedell - ECPv6.15.17.1//NONSGML v1.0//EN
CALSCALE:GREGORIAN
METHOD:PUBLISH
X-WR-CALNAME:Ernie Bedell
X-ORIGINAL-URL:https://erniebedell.com
X-WR-CALDESC:Events for Ernie Bedell
REFRESH-INTERVAL;VALUE=DURATION:PT1H
X-Robots-Tag:noindex
X-PUBLISHED-TTL:PT1H
BEGIN:VTIMEZONE
TZID:UTC
BEGIN:STANDARD
TZOFFSETFROM:+0000
TZOFFSETTO:+0000
TZNAME:UTC
DTSTART:20220101T000000
END:STANDARD
END:VTIMEZONE
BEGIN:VEVENT
DTSTART;TZID=UTC:20240312T190000
DTEND;TZID=UTC:20240312T220000
DTSTAMP:20260421T002734
CREATED:20240226T182438Z
LAST-MODIFIED:20240226T182649Z
UID:964-1710270000-1710280800@erniebedell.com
SUMMARY:Tuesday Night Jazz w/Arthur Duncan Trio
DESCRIPTION:
URL:https://erniebedell.com/event/tuesday-night-jazz-w-arthur-duncan-trio-15/
LOCATION:Ernie Biggs\, 312 South Ave\, Springfield\, MO\, 65806
END:VEVENT
BEGIN:VEVENT
DTSTART;TZID=UTC:20240311T183000
DTEND;TZID=UTC:20240311T203000
DTSTAMP:20260421T002734
CREATED:20240226T182203Z
LAST-MODIFIED:20240226T182203Z
UID:956-1710181800-1710189000@erniebedell.com
SUMMARY:Arthur Duncan Trio
DESCRIPTION:
URL:https://erniebedell.com/event/arthur-duncan-trio-32/
LOCATION:Where House Bar\, 2463 W. Sunshine St. #120\, SPRINGFIELD\, MO\, 65807\, United States
END:VEVENT
BEGIN:VEVENT
DTSTART;TZID=UTC:20240305T190000
DTEND;TZID=UTC:20240305T220000
DTSTAMP:20260421T002734
CREATED:20240207T172639Z
LAST-MODIFIED:20240207T172639Z
UID:947-1709665200-1709676000@erniebedell.com
SUMMARY:Tuesday Night Jazz w/Arthur Duncan Trio
DESCRIPTION:
URL:https://erniebedell.com/event/tuesday-night-jazz-w-arthur-duncan-trio-13/
LOCATION:Ernie Biggs\, 312 South Ave\, Springfield\, MO\, 65806
END:VEVENT
BEGIN:VEVENT
DTSTART;TZID=UTC:20240304T183000
DTEND;TZID=UTC:20240304T203000
DTSTAMP:20260421T002734
CREATED:20240207T172401Z
LAST-MODIFIED:20240207T172401Z
UID:937-1709577000-1709584200@erniebedell.com
SUMMARY:Arthur Duncan Trio
DESCRIPTION:
URL:https://erniebedell.com/event/arthur-duncan-trio-30/
LOCATION:Where House Bar\, 2463 W. Sunshine St. #120\, SPRINGFIELD\, MO\, 65807\, United States
END:VEVENT
BEGIN:VEVENT
DTSTART;TZID=UTC:20240227T190000
DTEND;TZID=UTC:20240227T220000
DTSTAMP:20260421T002734
CREATED:20240207T172532Z
LAST-MODIFIED:20240207T172532Z
UID:941-1709060400-1709071200@erniebedell.com
SUMMARY:Tuesday Night Jazz w/Arthur Duncan Trio
DESCRIPTION:
URL:https://erniebedell.com/event/tuesday-night-jazz-w-arthur-duncan-trio-12/
LOCATION:Ernie Biggs\, 312 South Ave\, Springfield\, MO\, 65806
END:VEVENT
BEGIN:VEVENT
DTSTART;TZID=UTC:20240226T183000
DTEND;TZID=UTC:20240226T203000
DTSTAMP:20260421T002734
CREATED:20240207T172316Z
LAST-MODIFIED:20240207T172316Z
UID:935-1708972200-1708979400@erniebedell.com
SUMMARY:Arthur Duncan Trio
DESCRIPTION:
URL:https://erniebedell.com/event/arthur-duncan-trio-29/
LOCATION:Where House Bar\, 2463 W. Sunshine St. #120\, SPRINGFIELD\, MO\, 65807\, United States
END:VEVENT
BEGIN:VEVENT
DTSTART;TZID=UTC:20240220T190000
DTEND;TZID=UTC:20240220T220000
DTSTAMP:20260421T002734
CREATED:20240207T172446Z
LAST-MODIFIED:20240207T172446Z
UID:939-1708455600-1708466400@erniebedell.com
SUMMARY:Tuesday Night Jazz w/Arthur Duncan Trio
DESCRIPTION:
URL:https://erniebedell.com/event/tuesday-night-jazz-w-arthur-duncan-trio-11/
LOCATION:Ernie Biggs\, 312 South Ave\, Springfield\, MO\, 65806
END:VEVENT
BEGIN:VEVENT
DTSTART;TZID=UTC:20240219T183000
DTEND;TZID=UTC:20240219T203000
DTSTAMP:20260421T002734
CREATED:20240207T172031Z
LAST-MODIFIED:20240207T172220Z
UID:932-1708367400-1708374600@erniebedell.com
SUMMARY:Arthur Duncan Trio
DESCRIPTION:
URL:https://erniebedell.com/event/tuesday-night-jazz-w-arthur-duncan-trio-10/
LOCATION:Where House Bar\, 2463 W. Sunshine St. #120\, SPRINGFIELD\, MO\, 65807\, United States
END:VEVENT
BEGIN:VEVENT
DTSTART;TZID=UTC:20240213T190000
DTEND;TZID=UTC:20240213T220000
DTSTAMP:20260421T002734
CREATED:20240207T172746Z
LAST-MODIFIED:20240207T172746Z
UID:949-1707850800-1707861600@erniebedell.com
SUMMARY:Tuesday Night Jazz w/Arthur Duncan Trio
DESCRIPTION:
URL:https://erniebedell.com/event/tuesday-night-jazz-w-arthur-duncan-trio-14/
LOCATION:Ernie Biggs\, 312 South Ave\, Springfield\, MO\, 65806
END:VEVENT
BEGIN:VEVENT
DTSTART;TZID=UTC:20240212T183000
DTEND;TZID=UTC:20240212T203000
DTSTAMP:20260421T002734
CREATED:20240207T171956Z
LAST-MODIFIED:20240207T171956Z
UID:930-1707762600-1707769800@erniebedell.com
SUMMARY:Arthur Duncan Trio
DESCRIPTION:
URL:https://erniebedell.com/event/arthur-duncan-trio-28/
LOCATION:Where House Bar\, 2463 W. Sunshine St. #120\, SPRINGFIELD\, MO\, 65807\, United States
END:VEVENT
BEGIN:VEVENT
DTSTART;TZID=UTC:20240206T190000
DTEND;TZID=UTC:20240206T220000
DTSTAMP:20260421T002734
CREATED:20240207T171915Z
LAST-MODIFIED:20240207T171915Z
UID:928-1707246000-1707256800@erniebedell.com
SUMMARY:Tuesday Night Jazz w/Arthur Duncan Trio
DESCRIPTION:
URL:https://erniebedell.com/event/tuesday-night-jazz-w-arthur-duncan-trio-9/
LOCATION:Ernie Biggs\, 312 South Ave\, Springfield\, MO\, 65806
END:VEVENT
BEGIN:VEVENT
DTSTART;TZID=UTC:20240205T183000
DTEND;TZID=UTC:20240205T203000
DTSTAMP:20260421T002734
CREATED:20240207T171738Z
LAST-MODIFIED:20240207T171738Z
UID:926-1707157800-1707165000@erniebedell.com
SUMMARY:Arthur Duncan Trio
DESCRIPTION:
URL:https://erniebedell.com/event/arthur-duncan-trio-27/
LOCATION:Where House Bar\, 2463 W. Sunshine St. #120\, SPRINGFIELD\, MO\, 65807\, United States
END:VEVENT
BEGIN:VEVENT
DTSTART;TZID=UTC:20240130T190000
DTEND;TZID=UTC:20240130T220000
DTSTAMP:20260421T002734
CREATED:20240105T202659Z
LAST-MODIFIED:20240105T202659Z
UID:923-1706641200-1706652000@erniebedell.com
SUMMARY:Tuesday Night Jazz w/Arthur Duncan Trio
DESCRIPTION:
URL:https://erniebedell.com/event/tuesday-night-jazz-w-arthur-duncan-trio-8/
LOCATION:Ernie Biggs\, 312 South Ave\, Springfield\, MO\, 65806
END:VEVENT
BEGIN:VEVENT
DTSTART;TZID=UTC:20240129T183000
DTEND;TZID=UTC:20240129T203000
DTSTAMP:20260421T002734
CREATED:20240105T202359Z
LAST-MODIFIED:20240105T202359Z
UID:917-1706553000-1706560200@erniebedell.com
SUMMARY:Arthur Duncan Trio
DESCRIPTION:
URL:https://erniebedell.com/event/arthur-duncan-trio-26/
LOCATION:Where House Bar\, 2463 W. Sunshine St. #120\, SPRINGFIELD\, MO\, 65807\, United States
END:VEVENT
BEGIN:VEVENT
DTSTART;TZID=UTC:20240123T190000
DTEND;TZID=UTC:20240123T220000
DTSTAMP:20260421T002734
CREATED:20240105T202621Z
LAST-MODIFIED:20240105T202621Z
UID:921-1706036400-1706047200@erniebedell.com
SUMMARY:Tuesday Night Jazz w/Arthur Duncan Trio
DESCRIPTION:
URL:https://erniebedell.com/event/tuesday-night-jazz-w-arthur-duncan-trio-7/
LOCATION:Ernie Biggs\, 312 South Ave\, Springfield\, MO\, 65806
END:VEVENT
BEGIN:VEVENT
DTSTART;TZID=UTC:20240122T183000
DTEND;TZID=UTC:20240122T203000
DTSTAMP:20260421T002734
CREATED:20240105T202256Z
LAST-MODIFIED:20240105T202256Z
UID:915-1705948200-1705955400@erniebedell.com
SUMMARY:Arthur Duncan Trio
DESCRIPTION:
URL:https://erniebedell.com/event/arthur-duncan-trio-25/
LOCATION:Where House Bar\, 2463 W. Sunshine St. #120\, SPRINGFIELD\, MO\, 65807\, United States
END:VEVENT
BEGIN:VEVENT
DTSTART;TZID=UTC:20240116T190000
DTEND;TZID=UTC:20240116T220000
DTSTAMP:20260421T002734
CREATED:20240105T202550Z
LAST-MODIFIED:20240105T202550Z
UID:919-1705431600-1705442400@erniebedell.com
SUMMARY:Tuesday Night Jazz w/Arthur Duncan Trio
DESCRIPTION:
URL:https://erniebedell.com/event/tuesday-night-jazz-w-arthur-duncan-trio-6/
LOCATION:Ernie Biggs\, 312 South Ave\, Springfield\, MO\, 65806
END:VEVENT
BEGIN:VEVENT
DTSTART;TZID=UTC:20240115T183000
DTEND;TZID=UTC:20240115T203000
DTSTAMP:20260421T002734
CREATED:20240105T202150Z
LAST-MODIFIED:20240105T202318Z
UID:913-1705343400-1705350600@erniebedell.com
SUMMARY:Arthur Duncan Trio
DESCRIPTION:
URL:https://erniebedell.com/event/arthur-duncan-trio-24/
LOCATION:Where House Bar\, 2463 W. Sunshine St. #120\, SPRINGFIELD\, MO\, 65807\, United States
END:VEVENT
BEGIN:VEVENT
DTSTART;TZID=UTC:20240109T190000
DTEND;TZID=UTC:20240109T220000
DTSTAMP:20260421T002734
CREATED:20240105T202018Z
LAST-MODIFIED:20240105T202018Z
UID:909-1704826800-1704837600@erniebedell.com
SUMMARY:Tuesday Night Jazz w/Arthur Duncan Trio
DESCRIPTION:
URL:https://erniebedell.com/event/tuesday-night-jazz-w-arthur-duncan-trio-5/
LOCATION:Ernie Biggs\, 312 South Ave\, Springfield\, MO\, 65806
END:VEVENT
BEGIN:VEVENT
DTSTART;TZID=UTC:20240108T183000
DTEND;TZID=UTC:20240108T203000
DTSTAMP:20260421T002734
CREATED:20240105T202116Z
LAST-MODIFIED:20240105T202818Z
UID:911-1704738600-1704745800@erniebedell.com
SUMMARY:Arthur Duncan Trio
DESCRIPTION:
URL:https://erniebedell.com/event/arthur-duncan-trio-23/
LOCATION:Where House Bar\, 2463 W. Sunshine St. #120\, SPRINGFIELD\, MO\, 65807\, United States
END:VEVENT
BEGIN:VEVENT
DTSTART;TZID=UTC:20231226T190000
DTEND;TZID=UTC:20231226T220000
DTSTAMP:20260421T002734
CREATED:20231129T195832Z
LAST-MODIFIED:20231129T200048Z
UID:906-1703617200-1703628000@erniebedell.com
SUMMARY:Tuesday Night Jazz w/Arthur Duncan Trio
DESCRIPTION:
URL:https://erniebedell.com/event/tuesday-night-jazz-w-arthur-duncan-trio-4/
LOCATION:Ernie Biggs\, 312 South Ave\, Springfield\, MO\, 65806
END:VEVENT
BEGIN:VEVENT
DTSTART;TZID=UTC:20231225T183000
DTEND;TZID=UTC:20231225T203000
DTSTAMP:20260421T002734
CREATED:20231129T195611Z
LAST-MODIFIED:20231129T195611Z
UID:898-1703529000-1703536200@erniebedell.com
SUMMARY:Arthur Duncan Trio
DESCRIPTION:
URL:https://erniebedell.com/event/arthur-duncan-trio-22/
LOCATION:Where House Bar\, 2463 W. Sunshine St. #120\, SPRINGFIELD\, MO\, 65807\, United States
END:VEVENT
BEGIN:VEVENT
DTSTART;TZID=UTC:20231219T190000
DTEND;TZID=UTC:20231219T220000
DTSTAMP:20260421T002734
CREATED:20231129T195803Z
LAST-MODIFIED:20231129T195803Z
UID:904-1703012400-1703023200@erniebedell.com
SUMMARY:Tuesday Night Jazz w/Arthur Duncan Trio
DESCRIPTION:
URL:https://erniebedell.com/event/tuesday-night-jazz-w-arthur-duncan-trio-3/
LOCATION:Ernie Biggs\, 312 South Ave\, Springfield\, MO\, 65806
END:VEVENT
BEGIN:VEVENT
DTSTART;TZID=UTC:20231218T183000
DTEND;TZID=UTC:20231218T203000
DTSTAMP:20260421T002734
CREATED:20231129T195537Z
LAST-MODIFIED:20231129T195537Z
UID:896-1702924200-1702931400@erniebedell.com
SUMMARY:Arthur Duncan Trio
DESCRIPTION:
URL:https://erniebedell.com/event/arthur-duncan-trio-21/
LOCATION:Where House Bar\, 2463 W. Sunshine St. #120\, SPRINGFIELD\, MO\, 65807\, United States
END:VEVENT
BEGIN:VEVENT
DTSTART;TZID=UTC:20231214T180000
DTEND;TZID=UTC:20231214T200000
DTSTAMP:20260421T002734
CREATED:20231024T170011Z
LAST-MODIFIED:20231024T170011Z
UID:864-1702576800-1702584000@erniebedell.com
SUMMARY:Book Signing at Schweitzer Brentwood Library
DESCRIPTION:
URL:https://erniebedell.com/event/book-signing-at-schweitzer-brentwood-library/
LOCATION:Schweitzer Brentwood Library\, 2214 S Brentwood\, Springfield\, MO\, 65804
END:VEVENT
BEGIN:VEVENT
DTSTART;TZID=UTC:20231212T190000
DTEND;TZID=UTC:20231212T220000
DTSTAMP:20260421T002734
CREATED:20231129T195733Z
LAST-MODIFIED:20231129T195733Z
UID:902-1702407600-1702418400@erniebedell.com
SUMMARY:Tuesday Night Jazz w/Arthur Duncan Trio
DESCRIPTION:
URL:https://erniebedell.com/event/tuesday-night-jazz-w-arthur-duncan-trio-2/
LOCATION:Ernie Biggs\, 312 South Ave\, Springfield\, MO\, 65806
END:VEVENT
BEGIN:VEVENT
DTSTART;TZID=UTC:20231211T183000
DTEND;TZID=UTC:20231211T203000
DTSTAMP:20260421T002734
CREATED:20231129T195503Z
LAST-MODIFIED:20231129T195503Z
UID:894-1702319400-1702326600@erniebedell.com
SUMMARY:Arthur Duncan Trio
DESCRIPTION:
URL:https://erniebedell.com/event/arthur-duncan-trio-20/
LOCATION:Where House Bar\, 2463 W. Sunshine St. #120\, SPRINGFIELD\, MO\, 65807\, United States
END:VEVENT
BEGIN:VEVENT
DTSTART;TZID=UTC:20231205T190000
DTEND;TZID=UTC:20231205T220000
DTSTAMP:20260421T002734
CREATED:20231129T195652Z
LAST-MODIFIED:20231129T195706Z
UID:900-1701802800-1701813600@erniebedell.com
SUMMARY:Tuesday Night Jazz w/Arthur Duncan Trio
DESCRIPTION:
URL:https://erniebedell.com/event/tuesday-night-jazz-w-arthur-duncan-trio/
LOCATION:Ernie Biggs\, 312 South Ave\, Springfield\, MO\, 65806
END:VEVENT
BEGIN:VEVENT
DTSTART;TZID=UTC:20231204T183000
DTEND;TZID=UTC:20231204T203000
DTSTAMP:20260421T002734
CREATED:20231129T195406Z
LAST-MODIFIED:20231129T195406Z
UID:892-1701714600-1701721800@erniebedell.com
SUMMARY:Arthur Duncan Trio
DESCRIPTION:
URL:https://erniebedell.com/event/arthur-duncan-trio-19/
LOCATION:Where House Bar\, 2463 W. Sunshine St. #120\, SPRINGFIELD\, MO\, 65807\, United States
END:VEVENT
BEGIN:VEVENT
DTSTART;TZID=UTC:20231128T190000
DTEND;TZID=UTC:20231128T220000
DTSTAMP:20260421T002734
CREATED:20231024T170926Z
LAST-MODIFIED:20231025T145131Z
UID:884-1701198000-1701208800@erniebedell.com
SUMMARY:Tuesday Night Jazz w/Arthur Duncan Trio
DESCRIPTION:
URL:https://erniebedell.com/event/tuesday-night-jazz-ernie-biggs-5/
LOCATION:Ernie Biggs\, 312 South Ave\, Springfield\, MO\, 65806
END:VEVENT
END:VCALENDAR