BEGIN:VCALENDAR
VERSION:2.0
PRODID:-//Ernie Bedell - ECPv6.15.17.1//NONSGML v1.0//EN
CALSCALE:GREGORIAN
METHOD:PUBLISH
X-WR-CALNAME:Ernie Bedell
X-ORIGINAL-URL:https://erniebedell.com
X-WR-CALDESC:Events for Ernie Bedell
REFRESH-INTERVAL;VALUE=DURATION:PT1H
X-Robots-Tag:noindex
X-PUBLISHED-TTL:PT1H
BEGIN:VTIMEZONE
TZID:UTC
BEGIN:STANDARD
TZOFFSETFROM:+0000
TZOFFSETTO:+0000
TZNAME:UTC
DTSTART:20220101T000000
END:STANDARD
END:VTIMEZONE
BEGIN:VEVENT
DTSTART;TZID=UTC:20231127T183000
DTEND;TZID=UTC:20231127T203000
DTSTAMP:20260421T044422
CREATED:20231024T170401Z
LAST-MODIFIED:20231024T170401Z
UID:873-1701109800-1701117000@erniebedell.com
SUMMARY:Arthur Duncan Trio
DESCRIPTION:
URL:https://erniebedell.com/event/arthur-duncan-trio-18/
LOCATION:Where House Bar\, 2463 W. Sunshine St. #120\, SPRINGFIELD\, MO\, 65807\, United States
END:VEVENT
BEGIN:VEVENT
DTSTART;TZID=UTC:20231121T190000
DTEND;TZID=UTC:20231121T220000
DTSTAMP:20260421T044422
CREATED:20231024T170845Z
LAST-MODIFIED:20231025T145146Z
UID:882-1700593200-1700604000@erniebedell.com
SUMMARY:Tuesday Night Jazz w/Arthur Duncan Trio
DESCRIPTION:
URL:https://erniebedell.com/event/tuesday-night-jazz-ernie-biggs-4/
LOCATION:Ernie Biggs\, 312 South Ave\, Springfield\, MO\, 65806
END:VEVENT
BEGIN:VEVENT
DTSTART;TZID=UTC:20231120T183000
DTEND;TZID=UTC:20231120T203000
DTSTAMP:20260421T044422
CREATED:20231024T170329Z
LAST-MODIFIED:20231024T170329Z
UID:871-1700505000-1700512200@erniebedell.com
SUMMARY:Arthur Duncan Trio
DESCRIPTION:
URL:https://erniebedell.com/event/arthur-duncan-trio-17/
LOCATION:Where House Bar\, 2463 W. Sunshine St. #120\, SPRINGFIELD\, MO\, 65807\, United States
END:VEVENT
BEGIN:VEVENT
DTSTART;TZID=UTC:20231114T190000
DTEND;TZID=UTC:20231114T220000
DTSTAMP:20260421T044422
CREATED:20231024T170751Z
LAST-MODIFIED:20231025T145139Z
UID:880-1699988400-1699999200@erniebedell.com
SUMMARY:Tuesday Night Jazz w/Arthur Duncan Trio
DESCRIPTION:
URL:https://erniebedell.com/event/tuesday-night-jazz-ernie-biggs-3/
LOCATION:Ernie Biggs\, 312 South Ave\, Springfield\, MO\, 65806
END:VEVENT
BEGIN:VEVENT
DTSTART;TZID=UTC:20231113T183000
DTEND;TZID=UTC:20231113T203000
DTSTAMP:20260421T044422
CREATED:20231024T170252Z
LAST-MODIFIED:20231024T170252Z
UID:869-1699900200-1699907400@erniebedell.com
SUMMARY:Arthur Duncan Trio
DESCRIPTION:
URL:https://erniebedell.com/event/arthur-duncan-trio-16/
LOCATION:Where House Bar\, 2463 W. Sunshine St. #120\, SPRINGFIELD\, MO\, 65807\, United States
END:VEVENT
BEGIN:VEVENT
DTSTART;TZID=UTC:20231107T190000
DTEND;TZID=UTC:20231107T220000
DTSTAMP:20260421T044422
CREATED:20231024T170718Z
LAST-MODIFIED:20231025T145154Z
UID:878-1699383600-1699394400@erniebedell.com
SUMMARY:Tuesday Night Jazz w/Arthur Duncan Trio
DESCRIPTION:
URL:https://erniebedell.com/event/tuesday-night-jazz-ernie-biggs-2/
LOCATION:Ernie Biggs\, 312 South Ave\, Springfield\, MO\, 65806
END:VEVENT
BEGIN:VEVENT
DTSTART;TZID=UTC:20231106T063000
DTEND;TZID=UTC:20231106T203000
DTSTAMP:20260421T044422
CREATED:20231024T170218Z
LAST-MODIFIED:20231024T170218Z
UID:867-1699252200-1699302600@erniebedell.com
SUMMARY:Arthur Duncan Trio
DESCRIPTION:
URL:https://erniebedell.com/event/arthur-duncan-trio-15/
LOCATION:Where House Bar\, 2463 W. Sunshine St. #120\, SPRINGFIELD\, MO\, 65807\, United States
END:VEVENT
BEGIN:VEVENT
DTSTART;TZID=UTC:20231030T183000
DTEND;TZID=UTC:20231030T203000
DTSTAMP:20260421T044422
CREATED:20231009T143623Z
LAST-MODIFIED:20231024T170506Z
UID:861-1698690600-1698697800@erniebedell.com
SUMMARY:Arthur Duncan Trio
DESCRIPTION:
URL:https://erniebedell.com/event/arthur-duncan-trio-14/
LOCATION:Where House Bar\, 2463 W. Sunshine St. #120\, SPRINGFIELD\, MO\, 65807\, United States
END:VEVENT
BEGIN:VEVENT
DTSTART;TZID=UTC:20231025T190000
DTEND;TZID=UTC:20231025T220000
DTSTAMP:20260421T044422
CREATED:20231024T170633Z
LAST-MODIFIED:20231025T145203Z
UID:876-1698260400-1698271200@erniebedell.com
SUMMARY:Tuesday Night Jazz w/Arthur Duncan Trio
DESCRIPTION:
URL:https://erniebedell.com/event/tuesday-night-jazz-ernie-biggs/
LOCATION:Ernie Biggs\, 312 South Ave\, Springfield\, MO\, 65806
END:VEVENT
BEGIN:VEVENT
DTSTART;TZID=UTC:20231023T180000
DTEND;TZID=UTC:20231023T210000
DTSTAMP:20260421T044422
CREATED:20231009T143540Z
LAST-MODIFIED:20231009T143540Z
UID:859-1698084000-1698094800@erniebedell.com
SUMMARY:Arthur Duncan Trio
DESCRIPTION:
URL:https://erniebedell.com/event/arthur-duncan-trio-13/
LOCATION:Where House Bar\, 2463 W. Sunshine St. #120\, SPRINGFIELD\, MO\, 65807\, United States
END:VEVENT
BEGIN:VEVENT
DTSTART;TZID=UTC:20231016T180000
DTEND;TZID=UTC:20231016T210000
DTSTAMP:20260421T044422
CREATED:20231009T143508Z
LAST-MODIFIED:20231009T143508Z
UID:857-1697479200-1697490000@erniebedell.com
SUMMARY:Arthur Duncan Trio
DESCRIPTION:
URL:https://erniebedell.com/event/arthur-duncan-trio-12/
LOCATION:Where House Bar\, 2463 W. Sunshine St. #120\, SPRINGFIELD\, MO\, 65807\, United States
END:VEVENT
BEGIN:VEVENT
DTSTART;TZID=UTC:20231009T180000
DTEND;TZID=UTC:20231009T210000
DTSTAMP:20260421T044422
CREATED:20231009T143433Z
LAST-MODIFIED:20231009T143433Z
UID:855-1696874400-1696885200@erniebedell.com
SUMMARY:Arthur Duncan Trio
DESCRIPTION:
URL:https://erniebedell.com/event/arthur-duncan-trio-11/
LOCATION:Where House Bar\, 2463 W. Sunshine St. #120\, SPRINGFIELD\, MO\, 65807\, United States
END:VEVENT
BEGIN:VEVENT
DTSTART;TZID=UTC:20230925T180000
DTEND;TZID=UTC:20230925T210000
DTSTAMP:20260421T044422
CREATED:20230821T150354Z
LAST-MODIFIED:20230821T150648Z
UID:841-1695664800-1695675600@erniebedell.com
SUMMARY:Arthur Duncan Trio
DESCRIPTION:
URL:https://erniebedell.com/event/arthur-duncan-trio-10/
LOCATION:Where House Bar\, 2463 W. Sunshine St. #120\, SPRINGFIELD\, MO\, 65807\, United States
END:VEVENT
BEGIN:VEVENT
DTSTART;TZID=UTC:20230918T180000
DTEND;TZID=UTC:20230918T210000
DTSTAMP:20260421T044422
CREATED:20230821T150059Z
LAST-MODIFIED:20230821T150059Z
UID:839-1695060000-1695070800@erniebedell.com
SUMMARY:Arthur Duncan Trio
DESCRIPTION:
URL:https://erniebedell.com/event/arthur-duncan-trio-9/
LOCATION:Where House Bar\, 2463 W. Sunshine St. #120\, SPRINGFIELD\, MO\, 65807\, United States
END:VEVENT
BEGIN:VEVENT
DTSTART;TZID=UTC:20230911T180000
DTEND;TZID=UTC:20230911T210000
DTSTAMP:20260421T044422
CREATED:20230821T150006Z
LAST-MODIFIED:20230821T150443Z
UID:837-1694455200-1694466000@erniebedell.com
SUMMARY:Arthur Duncan Trio
DESCRIPTION:
URL:https://erniebedell.com/event/arthur-duncan-trio-8/
LOCATION:Where House Bar\, 2463 W. Sunshine St. #120\, SPRINGFIELD\, MO\, 65807\, United States
END:VEVENT
BEGIN:VEVENT
DTSTART;TZID=UTC:20230909T210000
DTEND;TZID=UTC:20230909T230000
DTSTAMP:20260421T044422
CREATED:20230821T183841Z
LAST-MODIFIED:20230821T183841Z
UID:843-1694293200-1694300400@erniebedell.com
SUMMARY:ABS Band
DESCRIPTION:Open to the public.
URL:https://erniebedell.com/event/abs-band-4/
LOCATION:St. Elizabeth Ann Seton Catholic Church\, 2200 W Republic Rd\, Springfield\, MO\, 65807
END:VEVENT
BEGIN:VEVENT
DTSTART;TZID=UTC:20230906T150000
DTEND;TZID=UTC:20230906T170000
DTSTAMP:20260421T044422
CREATED:20230821T184302Z
LAST-MODIFIED:20230821T184917Z
UID:846-1694012400-1694019600@erniebedell.com
SUMMARY:PBS Ozarks Watch Interview
DESCRIPTION:PBS OZARK WATCH INTERVIEW \n3 PM  SEPT 6TH \nWILL FIND OUT WHEN IT WILL BE AIRED.
URL:https://erniebedell.com/event/pbs-ozarks-watch-interview/
LOCATION:MO
END:VEVENT
BEGIN:VEVENT
DTSTART;TZID=UTC:20230904T180000
DTEND;TZID=UTC:20230904T210000
DTSTAMP:20260421T044422
CREATED:20230821T145915Z
LAST-MODIFIED:20230821T150420Z
UID:835-1693850400-1693861200@erniebedell.com
SUMMARY:Arthur Duncan Trio
DESCRIPTION:
URL:https://erniebedell.com/event/arthur-duncan-trio-7/
LOCATION:Where House Bar\, 2463 W. Sunshine St. #120\, SPRINGFIELD\, MO\, 65807\, United States
END:VEVENT
BEGIN:VEVENT
DTSTART;TZID=UTC:20230828T180000
DTEND;TZID=UTC:20230828T210000
DTSTAMP:20260421T044422
CREATED:20230727T173933Z
LAST-MODIFIED:20230727T173933Z
UID:832-1693245600-1693256400@erniebedell.com
SUMMARY:Arthur Duncan Trio
DESCRIPTION:
URL:https://erniebedell.com/event/arthur-duncan-trio-6/
LOCATION:Where House Bar\, 2463 W. Sunshine St. #120\, SPRINGFIELD\, MO\, 65807\, United States
END:VEVENT
BEGIN:VEVENT
DTSTART;TZID=UTC:20230821T180000
DTEND;TZID=UTC:20230821T210000
DTSTAMP:20260421T044422
CREATED:20230727T173839Z
LAST-MODIFIED:20230727T173839Z
UID:830-1692640800-1692651600@erniebedell.com
SUMMARY:Arthur Duncan Trio
DESCRIPTION:
URL:https://erniebedell.com/event/arthur-duncan-trio-5/
LOCATION:Where House Bar\, 2463 W. Sunshine St. #120\, SPRINGFIELD\, MO\, 65807\, United States
END:VEVENT
BEGIN:VEVENT
DTSTART;TZID=UTC:20230814T180000
DTEND;TZID=UTC:20230814T210000
DTSTAMP:20260421T044422
CREATED:20230727T173608Z
LAST-MODIFIED:20230727T173956Z
UID:828-1692036000-1692046800@erniebedell.com
SUMMARY:Arthur Duncan Trio
DESCRIPTION:
URL:https://erniebedell.com/event/arthur-duncan-trio-4/
LOCATION:Where House Bar\, 2463 W. Sunshine St. #120\, SPRINGFIELD\, MO\, 65807\, United States
END:VEVENT
BEGIN:VEVENT
DTSTART;TZID=UTC:20230807T180000
DTEND;TZID=UTC:20230807T210000
DTSTAMP:20260421T044422
CREATED:20230727T173434Z
LAST-MODIFIED:20230727T173434Z
UID:826-1691431200-1691442000@erniebedell.com
SUMMARY:Arthur Duncan Trio
DESCRIPTION:
URL:https://erniebedell.com/event/arthur-duncan-trio-3/
LOCATION:Where House Bar\, 2463 W. Sunshine St. #120\, SPRINGFIELD\, MO\, 65807\, United States
END:VEVENT
BEGIN:VEVENT
DTSTART;TZID=UTC:20230805T093000
DTEND;TZID=UTC:20230805T130000
DTSTAMP:20260421T044422
CREATED:20230215T194910Z
LAST-MODIFIED:20230410T180030Z
UID:768-1691227800-1691240400@erniebedell.com
SUMMARY:Springfield Park Day Reunion
DESCRIPTION:
URL:https://erniebedell.com/event/springfield-park-day-reunion/
LOCATION:John Q Hammons Conference Center\, 685 N John Q Hammons Pkwy\, SPRINGFIELD\, MO\, 65802\, United States
END:VEVENT
BEGIN:VEVENT
DTSTART;TZID=UTC:20230804T190000
DTEND;TZID=UTC:20230804T210000
DTSTAMP:20260421T044422
CREATED:20230410T175749Z
LAST-MODIFIED:20230410T175749Z
UID:793-1691175600-1691182800@erniebedell.com
SUMMARY:ABS Band: Joplin Emancipation "Park Days 2023"
DESCRIPTION:
URL:https://erniebedell.com/event/abs-band-joplin-emancipation-park-days-2023/
LOCATION:Ewert Park\, 846 Murphy Blvd\, Joplin\, MO 64801\, 64801\, United States
END:VEVENT
BEGIN:VEVENT
DTSTART;TZID=UTC:20230731T180000
DTEND;TZID=UTC:20230731T210000
DTSTAMP:20260421T044422
CREATED:20230727T173110Z
LAST-MODIFIED:20230727T173510Z
UID:823-1690826400-1690837200@erniebedell.com
SUMMARY:Arthur Duncan Trio
DESCRIPTION:
URL:https://erniebedell.com/event/arthur-duncan-trio-2/
LOCATION:Where House Bar\, 2463 W. Sunshine St. #120\, SPRINGFIELD\, MO\, 65807\, United States
END:VEVENT
BEGIN:VEVENT
DTSTART;TZID=UTC:20230729T210000
DTEND;TZID=UTC:20230730T000000
DTSTAMP:20260421T044422
CREATED:20230410T174928Z
LAST-MODIFIED:20230410T174928Z
UID:791-1690664400-1690675200@erniebedell.com
SUMMARY:ABS Band
DESCRIPTION:
URL:https://erniebedell.com/event/abs-band-3/
LOCATION:Ernie Biggs\, 312 South Ave\, Springfield\, MO\, 65806
END:VEVENT
BEGIN:VEVENT
DTSTART;TZID=UTC:20230722T120000
DTEND;TZID=UTC:20230722T140000
DTSTAMP:20260421T044422
CREATED:20230706T171121Z
LAST-MODIFIED:20230706T171121Z
UID:801-1690027200-1690034400@erniebedell.com
SUMMARY:Book Signing
DESCRIPTION:
URL:https://erniebedell.com/event/book-signing-2/
LOCATION:Schweitzer-Brentwood Branch Library\, 2214 S Brentwood\, Springfield\, MO\, 65804\, United States
END:VEVENT
BEGIN:VEVENT
DTSTART;TZID=UTC:20230710T180000
DTEND;TZID=UTC:20230710T210000
DTSTAMP:20260421T044422
CREATED:20230706T183105Z
LAST-MODIFIED:20230706T183541Z
UID:804-1689012000-1689022800@erniebedell.com
SUMMARY:Arthur Duncan Trio
DESCRIPTION:
URL:https://erniebedell.com/event/arthur-duncan-trio/
LOCATION:Where House Bar\, 2463 W. Sunshine St. #120\, SPRINGFIELD\, MO\, 65807\, United States
END:VEVENT
BEGIN:VEVENT
DTSTART;TZID=UTC:20230701T210000
DTEND;TZID=UTC:20230702T003000
DTSTAMP:20260421T044422
CREATED:20230215T194619Z
LAST-MODIFIED:20230410T180352Z
UID:766-1688245200-1688257800@erniebedell.com
SUMMARY:ABS Band
DESCRIPTION:
URL:https://erniebedell.com/event/abs-band-5/
LOCATION:The Riff\, 1900 W Sunset St\, Springfield\, MO\, 65807
END:VEVENT
BEGIN:VEVENT
DTSTART;TZID=UTC:20230617T130000
DTEND;TZID=UTC:20230617T150000
DTSTAMP:20260421T044422
CREATED:20230215T194453Z
LAST-MODIFIED:20230410T181535Z
UID:763-1687006800-1687014000@erniebedell.com
SUMMARY:ABS Band: Juneteenth
DESCRIPTION:
URL:https://erniebedell.com/event/abs-band-juneteenth/
LOCATION:Oasis Hotel & Convention Center\, 2546 N Glenstone Ave\, Springfield\, MO
END:VEVENT
END:VCALENDAR