BEGIN:VCALENDAR
VERSION:2.0
PRODID:-//Ernie Bedell - ECPv6.15.17.1//NONSGML v1.0//EN
CALSCALE:GREGORIAN
METHOD:PUBLISH
X-ORIGINAL-URL:https://erniebedell.com
X-WR-CALDESC:Events for Ernie Bedell
REFRESH-INTERVAL;VALUE=DURATION:PT1H
X-Robots-Tag:noindex
X-PUBLISHED-TTL:PT1H
BEGIN:VTIMEZONE
TZID:UTC
BEGIN:STANDARD
TZOFFSETFROM:+0000
TZOFFSETTO:+0000
TZNAME:UTC
DTSTART:20240101T000000
END:STANDARD
END:VTIMEZONE
BEGIN:VEVENT
DTSTART;TZID=UTC:20250809T200000
DTEND;TZID=UTC:20250810T003000
DTSTAMP:20260420T070249
CREATED:20250430T140701Z
LAST-MODIFIED:20250430T140701Z
UID:1210-1754769600-1754785800@erniebedell.com
SUMMARY:Arthur Duncan Trio
DESCRIPTION:
URL:https://erniebedell.com/event/arthur-duncan-trio-131/
LOCATION:Muddy Creek Corral\, 7502 Mo-14\, Sparta\, MO\, 65753\, United States
END:VEVENT
BEGIN:VEVENT
DTSTART;TZID=UTC:20250804T190000
DTEND;TZID=UTC:20250804T210000
DTSTAMP:20260420T070249
CREATED:20250530T135405Z
LAST-MODIFIED:20250530T135405Z
UID:1244-1754334000-1754341200@erniebedell.com
SUMMARY:Arthur Duncan Trio
DESCRIPTION:
URL:https://erniebedell.com/event/arthur-duncan-trio-147/
LOCATION:Where House Bar\, 2463 W. Sunshine St. #120\, SPRINGFIELD\, MO\, 65807\, United States
END:VEVENT
BEGIN:VEVENT
DTSTART;TZID=UTC:20250728T190000
DTEND;TZID=UTC:20250728T210000
DTSTAMP:20260420T070249
CREATED:20250530T135303Z
LAST-MODIFIED:20250530T135303Z
UID:1242-1753729200-1753736400@erniebedell.com
SUMMARY:Arthur Duncan Trio
DESCRIPTION:
URL:https://erniebedell.com/event/arthur-duncan-trio-146/
LOCATION:Where House Bar\, 2463 W. Sunshine St. #120\, SPRINGFIELD\, MO\, 65807\, United States
END:VEVENT
BEGIN:VEVENT
DTSTART;TZID=UTC:20250721T190000
DTEND;TZID=UTC:20250721T210000
DTSTAMP:20260420T070249
CREATED:20250530T135228Z
LAST-MODIFIED:20250530T135228Z
UID:1240-1753124400-1753131600@erniebedell.com
SUMMARY:Arthur Duncan Trio
DESCRIPTION:
URL:https://erniebedell.com/event/arthur-duncan-trio-145/
LOCATION:Where House Bar\, 2463 W. Sunshine St. #120\, SPRINGFIELD\, MO\, 65807\, United States
END:VEVENT
BEGIN:VEVENT
DTSTART;TZID=UTC:20250716T080000
DTEND;TZID=UTC:20250716T170000
DTSTAMP:20260420T070249
CREATED:20250430T140125Z
LAST-MODIFIED:20250430T140125Z
UID:1203-1752652800-1752685200@erniebedell.com
SUMMARY:Arthur Duncan Trio
DESCRIPTION:
URL:https://erniebedell.com/event/arthur-duncan-trio-129/
LOCATION:1906 Wine Bar and Pub\, 115 W Broadway St\, Bolivar\, MO\, 65813\, United States
END:VEVENT
BEGIN:VEVENT
DTSTART;TZID=UTC:20250714T190000
DTEND;TZID=UTC:20250714T210000
DTSTAMP:20260420T070249
CREATED:20250530T135154Z
LAST-MODIFIED:20250530T135154Z
UID:1238-1752519600-1752526800@erniebedell.com
SUMMARY:Arthur Duncan Trio
DESCRIPTION:
URL:https://erniebedell.com/event/arthur-duncan-trio-144/
LOCATION:Where House Bar\, 2463 W. Sunshine St. #120\, SPRINGFIELD\, MO\, 65807\, United States
END:VEVENT
BEGIN:VEVENT
DTSTART;TZID=UTC:20250711T180000
DTEND;TZID=UTC:20250711T210000
DTSTAMP:20260420T070249
CREATED:20250430T141034Z
LAST-MODIFIED:20250430T141034Z
UID:1218-1752256800-1752267600@erniebedell.com
SUMMARY:Arthur Duncan Trio
DESCRIPTION:
URL:https://erniebedell.com/event/arthur-duncan-trio-135/
LOCATION:Pappy’s Place\, 943 N Main Ave\, Springfield\, 65802\, United States
END:VEVENT
BEGIN:VEVENT
DTSTART;TZID=UTC:20250707T190000
DTEND;TZID=UTC:20250707T210000
DTSTAMP:20260420T070249
CREATED:20250530T135124Z
LAST-MODIFIED:20250530T135124Z
UID:1236-1751914800-1751922000@erniebedell.com
SUMMARY:Arthur Duncan Trio
DESCRIPTION:
URL:https://erniebedell.com/event/arthur-duncan-trio-143/
LOCATION:Where House Bar\, 2463 W. Sunshine St. #120\, SPRINGFIELD\, MO\, 65807\, United States
END:VEVENT
BEGIN:VEVENT
DTSTART;TZID=UTC:20250630T190000
DTEND;TZID=UTC:20250630T210000
DTSTAMP:20260420T070249
CREATED:20250530T135026Z
LAST-MODIFIED:20250530T135026Z
UID:1234-1751310000-1751317200@erniebedell.com
SUMMARY:Arthur Duncan Trio
DESCRIPTION:
URL:https://erniebedell.com/event/arthur-duncan-trio-142/
LOCATION:Where House Bar\, 2463 W. Sunshine St. #120\, SPRINGFIELD\, MO\, 65807\, United States
END:VEVENT
BEGIN:VEVENT
DTSTART;TZID=UTC:20250627T190000
DTEND;TZID=UTC:20250627T213000
DTSTAMP:20260420T070249
CREATED:20250430T135856Z
LAST-MODIFIED:20250430T135856Z
UID:1199-1751050800-1751059800@erniebedell.com
SUMMARY:Arthur Duncan Trio
DESCRIPTION:
URL:https://erniebedell.com/event/arthur-duncan-trio-127/
LOCATION:1906 Wine Bar and Pub\, 115 W Broadway St\, Bolivar\, MO\, 65813\, United States
END:VEVENT
BEGIN:VEVENT
DTSTART;TZID=UTC:20250623T190000
DTEND;TZID=UTC:20250623T210000
DTSTAMP:20260420T070249
CREATED:20250530T134952Z
LAST-MODIFIED:20250530T134952Z
UID:1232-1750705200-1750712400@erniebedell.com
SUMMARY:Arthur Duncan Trio
DESCRIPTION:
URL:https://erniebedell.com/event/arthur-duncan-trio-141/
LOCATION:Where House Bar\, 2463 W. Sunshine St. #120\, SPRINGFIELD\, MO\, 65807\, United States
END:VEVENT
BEGIN:VEVENT
DTSTART;TZID=UTC:20250621T180000
DTEND;TZID=UTC:20250621T210000
DTSTAMP:20260420T070249
CREATED:20250430T140942Z
LAST-MODIFIED:20250430T140942Z
UID:1216-1750528800-1750539600@erniebedell.com
SUMMARY:Arthur Duncan Trio
DESCRIPTION:
URL:https://erniebedell.com/event/arthur-duncan-trio-134/
LOCATION:Pappy’s Place\, 943 N Main Ave\, Springfield\, 65802\, United States
END:VEVENT
BEGIN:VEVENT
DTSTART;TZID=UTC:20250616T190000
DTEND;TZID=UTC:20250616T210000
DTSTAMP:20260420T070249
CREATED:20250530T134918Z
LAST-MODIFIED:20250530T134918Z
UID:1230-1750100400-1750107600@erniebedell.com
SUMMARY:Arthur Duncan Trio
DESCRIPTION:
URL:https://erniebedell.com/event/arthur-duncan-trio-140/
LOCATION:Where House Bar\, 2463 W. Sunshine St. #120\, SPRINGFIELD\, MO\, 65807\, United States
END:VEVENT
BEGIN:VEVENT
DTSTART;TZID=UTC:20250613T180000
DTEND;TZID=UTC:20250613T210000
DTSTAMP:20260420T070249
CREATED:20250429T145442Z
LAST-MODIFIED:20250429T145442Z
UID:1187-1749837600-1749848400@erniebedell.com
SUMMARY:Arthur Duncan Trio
DESCRIPTION:
URL:https://erniebedell.com/event/arthur-duncan-trio-123/
LOCATION:Jazzy B’s\, 320 SW Blue Pkwy\, Lee's Summit\, MO\, 64063\, United States
END:VEVENT
BEGIN:VEVENT
DTSTART;TZID=UTC:20250611T190000
DTEND;TZID=UTC:20250611T213000
DTSTAMP:20260420T070249
CREATED:20250430T140004Z
LAST-MODIFIED:20250430T140156Z
UID:1201-1749668400-1749677400@erniebedell.com
SUMMARY:Arthur Duncan Trio
DESCRIPTION:
URL:https://erniebedell.com/event/arthur-duncan-trio-128/
LOCATION:1906 Wine Bar and Pub\, 115 W Broadway St\, Bolivar\, MO\, 65813\, United States
END:VEVENT
BEGIN:VEVENT
DTSTART;TZID=UTC:20250609T190000
DTEND;TZID=UTC:20250609T210000
DTSTAMP:20260420T070249
CREATED:20250530T134843Z
LAST-MODIFIED:20250530T134843Z
UID:1228-1749495600-1749502800@erniebedell.com
SUMMARY:Arthur Duncan Trio
DESCRIPTION:
URL:https://erniebedell.com/event/arthur-duncan-trio-139/
LOCATION:Where House Bar\, 2463 W. Sunshine St. #120\, SPRINGFIELD\, MO\, 65807\, United States
END:VEVENT
BEGIN:VEVENT
DTSTART;TZID=UTC:20250602T190000
DTEND;TZID=UTC:20250602T210000
DTSTAMP:20260420T070249
CREATED:20250425T193657Z
LAST-MODIFIED:20250425T193657Z
UID:1183-1748890800-1748898000@erniebedell.com
SUMMARY:Arthur Duncan Trio
DESCRIPTION:
URL:https://erniebedell.com/event/arthur-duncan-trio-121/
LOCATION:Where House Bar\, 2463 W. Sunshine St. #120\, SPRINGFIELD\, MO\, 65807\, United States
END:VEVENT
BEGIN:VEVENT
DTSTART;TZID=UTC:20250530T180000
DTEND;TZID=UTC:20250530T210000
DTSTAMP:20260420T070249
CREATED:20250429T145345Z
LAST-MODIFIED:20250429T145345Z
UID:1185-1748628000-1748638800@erniebedell.com
SUMMARY:Arthur Duncan Trio
DESCRIPTION:
URL:https://erniebedell.com/event/arthur-duncan-trio-122/
LOCATION:Jazzy B’s\, 320 SW Blue Pkwy\, Lee's Summit\, MO\, 64063\, United States
END:VEVENT
BEGIN:VEVENT
DTSTART;TZID=UTC:20250528T190000
DTEND;TZID=UTC:20250528T213000
DTSTAMP:20260420T070249
CREATED:20250430T135754Z
LAST-MODIFIED:20250430T135754Z
UID:1197-1748458800-1748467800@erniebedell.com
SUMMARY:Arthur Duncan Trio
DESCRIPTION:
URL:https://erniebedell.com/event/arthur-duncan-trio-126/
LOCATION:1906 Wine Bar and Pub\, 115 W Broadway St\, Bolivar\, MO\, 65813\, United States
END:VEVENT
BEGIN:VEVENT
DTSTART;TZID=UTC:20250526T190000
DTEND;TZID=UTC:20250526T210000
DTSTAMP:20260420T070249
CREATED:20250425T193605Z
LAST-MODIFIED:20250425T193605Z
UID:1181-1748286000-1748293200@erniebedell.com
SUMMARY:Arthur Duncan Trio
DESCRIPTION:
URL:https://erniebedell.com/event/arthur-duncan-trio-120/
LOCATION:Where House Bar\, 2463 W. Sunshine St. #120\, SPRINGFIELD\, MO\, 65807\, United States
END:VEVENT
BEGIN:VEVENT
DTSTART;TZID=UTC:20250522T200000
DTEND;TZID=UTC:20250522T230000
DTSTAMP:20260420T070249
CREATED:20250502T133359Z
LAST-MODIFIED:20250502T133359Z
UID:1225-1747944000-1747954800@erniebedell.com
SUMMARY:Arthur Duncan Trio
DESCRIPTION:
URL:https://erniebedell.com/event/arthur-duncan-trio-138/
LOCATION:Pub on the Bricks\, 106 W Elm St\, Rogers\, AR\, 72756\, United States
END:VEVENT
BEGIN:VEVENT
DTSTART;TZID=UTC:20250519T190000
DTEND;TZID=UTC:20250519T210000
DTSTAMP:20260420T070249
CREATED:20250425T193526Z
LAST-MODIFIED:20250425T193526Z
UID:1179-1747681200-1747688400@erniebedell.com
SUMMARY:Arthur Duncan Trio
DESCRIPTION:
URL:https://erniebedell.com/event/arthur-duncan-trio-119/
LOCATION:Where House Bar\, 2463 W. Sunshine St. #120\, SPRINGFIELD\, MO\, 65807\, United States
END:VEVENT
BEGIN:VEVENT
DTSTART;TZID=UTC:20250517T200000
DTEND;TZID=UTC:20250518T003000
DTSTAMP:20260420T070249
CREATED:20250430T140353Z
LAST-MODIFIED:20250430T140436Z
UID:1205-1747512000-1747528200@erniebedell.com
SUMMARY:Arthur Duncan Trio
DESCRIPTION:
URL:https://erniebedell.com/event/arthur-duncan-trio-130/
LOCATION:Muddy Creek Corral\, 7502 Mo-14\, Sparta\, MO\, 65753\, United States
END:VEVENT
BEGIN:VEVENT
DTSTART;TZID=UTC:20250516T180000
DTEND;TZID=UTC:20250516T210000
DTSTAMP:20260420T070249
CREATED:20250430T140846Z
LAST-MODIFIED:20250430T140846Z
UID:1214-1747418400-1747429200@erniebedell.com
SUMMARY:Arthur Duncan Trio
DESCRIPTION:
URL:https://erniebedell.com/event/arthur-duncan-trio-133/
LOCATION:Pappy’s Place\, 943 N Main Ave\, Springfield\, 65802\, United States
END:VEVENT
BEGIN:VEVENT
DTSTART;TZID=UTC:20250515T080000
DTEND;TZID=UTC:20250515T230000
DTSTAMP:20260420T070249
CREATED:20250502T132430Z
LAST-MODIFIED:20250502T132430Z
UID:1222-1747296000-1747350000@erniebedell.com
SUMMARY:Arthur Duncan Trio
DESCRIPTION:
URL:https://erniebedell.com/event/arthur-duncan-trio-137/
LOCATION:Pub on the Bricks\, 106 W Elm St\, Rogers\, AR\, 72756\, United States
END:VEVENT
BEGIN:VEVENT
DTSTART;TZID=UTC:20250512T190000
DTEND;TZID=UTC:20250512T210000
DTSTAMP:20260420T070249
CREATED:20250425T193443Z
LAST-MODIFIED:20250425T193443Z
UID:1177-1747076400-1747083600@erniebedell.com
SUMMARY:Arthur Duncan Trio
DESCRIPTION:
URL:https://erniebedell.com/event/arthur-duncan-trio-118/
LOCATION:Where House Bar\, 2463 W. Sunshine St. #120\, SPRINGFIELD\, MO\, 65807\, United States
END:VEVENT
BEGIN:VEVENT
DTSTART;TZID=UTC:20250507T190000
DTEND;TZID=UTC:20250507T213000
DTSTAMP:20260420T070249
CREATED:20250430T135632Z
LAST-MODIFIED:20250430T135632Z
UID:1194-1746644400-1746653400@erniebedell.com
SUMMARY:Arthur Duncan Trio
DESCRIPTION:
URL:https://erniebedell.com/event/arthur-duncan-trio-125/
LOCATION:1906 Wine Bar and Pub\, 115 W Broadway St\, Bolivar\, MO\, 65813\, United States
END:VEVENT
BEGIN:VEVENT
DTSTART;TZID=UTC:20250505T190000
DTEND;TZID=UTC:20250505T210000
DTSTAMP:20260420T070249
CREATED:20250425T193353Z
LAST-MODIFIED:20250425T193353Z
UID:1175-1746471600-1746478800@erniebedell.com
SUMMARY:Arthur Duncan Trio
DESCRIPTION:
URL:https://erniebedell.com/event/arthur-duncan-trio-117/
LOCATION:Where House Bar\, 2463 W. Sunshine St. #120\, SPRINGFIELD\, MO\, 65807\, United States
END:VEVENT
BEGIN:VEVENT
DTSTART;TZID=UTC:20250501T190000
DTEND;TZID=UTC:20250501T203000
DTSTAMP:20260420T070249
CREATED:20241218T161214Z
LAST-MODIFIED:20241218T161214Z
UID:1161-1746126000-1746131400@erniebedell.com
SUMMARY:Arthur Duncan Trio
DESCRIPTION:Springfield Public Library Local History and Genealogy
URL:https://erniebedell.com/event/arthur-duncan-trio-111/
LOCATION:The Library Center\, 4653 S. Campbell Ave\, Springfield\, Missouri\, 65810
END:VEVENT
BEGIN:VEVENT
DTSTART;TZID=UTC:20250428T190000
DTEND;TZID=UTC:20250428T210000
DTSTAMP:20260420T070249
CREATED:20250328T133609Z
LAST-MODIFIED:20250328T133609Z
UID:1172-1745866800-1745874000@erniebedell.com
SUMMARY:Arthur Duncan Trio
DESCRIPTION:
URL:https://erniebedell.com/event/arthur-duncan-trio-116/
LOCATION:Where House Bar\, 2463 W. Sunshine St. #120\, SPRINGFIELD\, MO\, 65807\, United States
END:VEVENT
END:VCALENDAR