BEGIN:VCALENDAR
VERSION:2.0
PRODID:-//Ernie Bedell - ECPv6.15.17.1//NONSGML v1.0//EN
CALSCALE:GREGORIAN
METHOD:PUBLISH
X-WR-CALNAME:Ernie Bedell
X-ORIGINAL-URL:https://erniebedell.com
X-WR-CALDESC:Events for Ernie Bedell
REFRESH-INTERVAL;VALUE=DURATION:PT1H
X-Robots-Tag:noindex
X-PUBLISHED-TTL:PT1H
BEGIN:VTIMEZONE
TZID:UTC
BEGIN:STANDARD
TZOFFSETFROM:+0000
TZOFFSETTO:+0000
TZNAME:UTC
DTSTART:20230101T000000
END:STANDARD
END:VTIMEZONE
BEGIN:VEVENT
DTSTART;TZID=UTC:20250507T190000
DTEND;TZID=UTC:20250507T213000
DTSTAMP:20260420T191115
CREATED:20250430T135632Z
LAST-MODIFIED:20250430T135632Z
UID:1194-1746644400-1746653400@erniebedell.com
SUMMARY:Arthur Duncan Trio
DESCRIPTION:
URL:https://erniebedell.com/event/arthur-duncan-trio-125/
LOCATION:1906 Wine Bar and Pub\, 115 W Broadway St\, Bolivar\, MO\, 65813\, United States
END:VEVENT
BEGIN:VEVENT
DTSTART;TZID=UTC:20250505T190000
DTEND;TZID=UTC:20250505T210000
DTSTAMP:20260420T191115
CREATED:20250425T193353Z
LAST-MODIFIED:20250425T193353Z
UID:1175-1746471600-1746478800@erniebedell.com
SUMMARY:Arthur Duncan Trio
DESCRIPTION:
URL:https://erniebedell.com/event/arthur-duncan-trio-117/
LOCATION:Where House Bar\, 2463 W. Sunshine St. #120\, SPRINGFIELD\, MO\, 65807\, United States
END:VEVENT
BEGIN:VEVENT
DTSTART;TZID=UTC:20250501T190000
DTEND;TZID=UTC:20250501T203000
DTSTAMP:20260420T191115
CREATED:20241218T161214Z
LAST-MODIFIED:20241218T161214Z
UID:1161-1746126000-1746131400@erniebedell.com
SUMMARY:Arthur Duncan Trio
DESCRIPTION:Springfield Public Library Local History and Genealogy
URL:https://erniebedell.com/event/arthur-duncan-trio-111/
LOCATION:The Library Center\, 4653 S. Campbell Ave\, Springfield\, Missouri\, 65810
END:VEVENT
BEGIN:VEVENT
DTSTART;TZID=UTC:20250428T190000
DTEND;TZID=UTC:20250428T210000
DTSTAMP:20260420T191115
CREATED:20250328T133609Z
LAST-MODIFIED:20250328T133609Z
UID:1172-1745866800-1745874000@erniebedell.com
SUMMARY:Arthur Duncan Trio
DESCRIPTION:
URL:https://erniebedell.com/event/arthur-duncan-trio-116/
LOCATION:Where House Bar\, 2463 W. Sunshine St. #120\, SPRINGFIELD\, MO\, 65807\, United States
END:VEVENT
BEGIN:VEVENT
DTSTART;TZID=UTC:20250421T190000
DTEND;TZID=UTC:20250421T210000
DTSTAMP:20260420T191115
CREATED:20250328T133323Z
LAST-MODIFIED:20250328T133323Z
UID:1170-1745262000-1745269200@erniebedell.com
SUMMARY:Arthur Duncan Trio
DESCRIPTION:
URL:https://erniebedell.com/event/arthur-duncan-trio-115/
LOCATION:Where House Bar\, 2463 W. Sunshine St. #120\, SPRINGFIELD\, MO\, 65807\, United States
END:VEVENT
BEGIN:VEVENT
DTSTART;TZID=UTC:20250414T190000
DTEND;TZID=UTC:20250414T210000
DTSTAMP:20260420T191115
CREATED:20250328T133243Z
LAST-MODIFIED:20250328T133243Z
UID:1168-1744657200-1744664400@erniebedell.com
SUMMARY:Arthur Duncan Trio
DESCRIPTION:
URL:https://erniebedell.com/event/arthur-duncan-trio-114/
LOCATION:Where House Bar\, 2463 W. Sunshine St. #120\, SPRINGFIELD\, MO\, 65807\, United States
END:VEVENT
BEGIN:VEVENT
DTSTART;TZID=UTC:20250407T190000
DTEND;TZID=UTC:20250407T210000
DTSTAMP:20260420T191115
CREATED:20250328T133157Z
LAST-MODIFIED:20250328T133157Z
UID:1166-1744052400-1744059600@erniebedell.com
SUMMARY:Arthur Duncan Trio
DESCRIPTION:
URL:https://erniebedell.com/event/arthur-duncan-trio-113/
LOCATION:Where House Bar\, 2463 W. Sunshine St. #120\, SPRINGFIELD\, MO\, 65807\, United States
END:VEVENT
BEGIN:VEVENT
DTSTART;TZID=UTC:20250331T190000
DTEND;TZID=UTC:20250331T210000
DTSTAMP:20260420T191115
CREATED:20250328T133108Z
LAST-MODIFIED:20250328T133108Z
UID:1164-1743447600-1743454800@erniebedell.com
SUMMARY:Arthur Duncan Trio
DESCRIPTION:
URL:https://erniebedell.com/event/arthur-duncan-trio-112/
LOCATION:Where House Bar\, 2463 W. Sunshine St. #120\, SPRINGFIELD\, MO\, 65807\, United States
END:VEVENT
BEGIN:VEVENT
DTSTART;TZID=UTC:20250324T183000
DTEND;TZID=UTC:20250324T203000
DTSTAMP:20260420T191115
CREATED:20241217T160353Z
LAST-MODIFIED:20241217T160353Z
UID:1156-1742841000-1742848200@erniebedell.com
SUMMARY:Arthur Duncan Trio
DESCRIPTION:
URL:https://erniebedell.com/event/arthur-duncan-trio-109/
LOCATION:Where House Bar\, 2463 W. Sunshine St. #120\, SPRINGFIELD\, MO\, 65807\, United States
END:VEVENT
BEGIN:VEVENT
DTSTART;TZID=UTC:20250322T190000
DTEND;TZID=UTC:20250322T213000
DTSTAMP:20260420T191115
CREATED:20241217T160948Z
LAST-MODIFIED:20241217T160948Z
UID:1158-1742670000-1742679000@erniebedell.com
SUMMARY:Arthur Duncan Trio
DESCRIPTION:
URL:https://erniebedell.com/event/arthur-duncan-trio-110/
LOCATION:Wire Road Brewing Company\, 4435 S Timbercreek Road\, Battlefield\, MO\, 65619\, United States
END:VEVENT
BEGIN:VEVENT
DTSTART;TZID=UTC:20250317T183000
DTEND;TZID=UTC:20250317T203000
DTSTAMP:20260420T191115
CREATED:20241217T160321Z
LAST-MODIFIED:20241217T160321Z
UID:1154-1742236200-1742243400@erniebedell.com
SUMMARY:Arthur Duncan Trio
DESCRIPTION:
URL:https://erniebedell.com/event/arthur-duncan-trio-108/
LOCATION:Where House Bar\, 2463 W. Sunshine St. #120\, SPRINGFIELD\, MO\, 65807\, United States
END:VEVENT
BEGIN:VEVENT
DTSTART;TZID=UTC:20250310T183000
DTEND;TZID=UTC:20250310T203000
DTSTAMP:20260420T191115
CREATED:20241217T160246Z
LAST-MODIFIED:20241217T160246Z
UID:1152-1741631400-1741638600@erniebedell.com
SUMMARY:Arthur Duncan Trio
DESCRIPTION:
URL:https://erniebedell.com/event/arthur-duncan-trio-107/
LOCATION:Where House Bar\, 2463 W. Sunshine St. #120\, SPRINGFIELD\, MO\, 65807\, United States
END:VEVENT
BEGIN:VEVENT
DTSTART;TZID=UTC:20250303T183000
DTEND;TZID=UTC:20250303T203000
DTSTAMP:20260420T191115
CREATED:20241217T160216Z
LAST-MODIFIED:20241217T160216Z
UID:1150-1741026600-1741033800@erniebedell.com
SUMMARY:Arthur Duncan Trio
DESCRIPTION:
URL:https://erniebedell.com/event/arthur-duncan-trio-106/
LOCATION:Where House Bar\, 2463 W. Sunshine St. #120\, SPRINGFIELD\, MO\, 65807\, United States
END:VEVENT
BEGIN:VEVENT
DTSTART;TZID=UTC:20250224T183000
DTEND;TZID=UTC:20250224T203000
DTSTAMP:20260420T191115
CREATED:20241217T155942Z
LAST-MODIFIED:20241217T155942Z
UID:1146-1740421800-1740429000@erniebedell.com
SUMMARY:Arthur Duncan Trio
DESCRIPTION:
URL:https://erniebedell.com/event/arthur-duncan-trio-105/
LOCATION:Where House Bar\, 2463 W. Sunshine St. #120\, SPRINGFIELD\, MO\, 65807\, United States
END:VEVENT
BEGIN:VEVENT
DTSTART;TZID=UTC:20250217T183000
DTEND;TZID=UTC:20250217T203000
DTSTAMP:20260420T191115
CREATED:20241217T155910Z
LAST-MODIFIED:20241217T155910Z
UID:1144-1739817000-1739824200@erniebedell.com
SUMMARY:Arthur Duncan Trio
DESCRIPTION:
URL:https://erniebedell.com/event/arthur-duncan-trio-104/
LOCATION:Where House Bar\, 2463 W. Sunshine St. #120\, SPRINGFIELD\, MO\, 65807\, United States
END:VEVENT
BEGIN:VEVENT
DTSTART;TZID=UTC:20250210T183000
DTEND;TZID=UTC:20250210T203000
DTSTAMP:20260420T191115
CREATED:20241217T155826Z
LAST-MODIFIED:20241217T155826Z
UID:1142-1739212200-1739219400@erniebedell.com
SUMMARY:Arthur Duncan Trio
DESCRIPTION:
URL:https://erniebedell.com/event/arthur-duncan-trio-103/
LOCATION:Where House Bar\, 2463 W. Sunshine St. #120\, SPRINGFIELD\, MO\, 65807\, United States
END:VEVENT
BEGIN:VEVENT
DTSTART;TZID=UTC:20250203T183000
DTEND;TZID=UTC:20250203T203000
DTSTAMP:20260420T191115
CREATED:20241217T155659Z
LAST-MODIFIED:20241217T155659Z
UID:1140-1738607400-1738614600@erniebedell.com
SUMMARY:Arthur Duncan Trio
DESCRIPTION:
URL:https://erniebedell.com/event/arthur-duncan-trio-102/
LOCATION:Where House Bar\, 2463 W. Sunshine St. #120\, SPRINGFIELD\, MO\, 65807\, United States
END:VEVENT
BEGIN:VEVENT
DTSTART;TZID=UTC:20250131T190000
DTEND;TZID=UTC:20250131T210000
DTSTAMP:20260420T191115
CREATED:20241217T160106Z
LAST-MODIFIED:20241217T160106Z
UID:1148-1738350000-1738357200@erniebedell.com
SUMMARY:Quincy Jones Tribute with the Arthur Duncan Trio
DESCRIPTION:
URL:https://erniebedell.com/event/quincy-jones-tribute-with-the-arthur-duncan-trio/
LOCATION:Where House Bar\, 2463 W. Sunshine St. #120\, SPRINGFIELD\, MO\, 65807\, United States
END:VEVENT
BEGIN:VEVENT
DTSTART;TZID=UTC:20250127T183000
DTEND;TZID=UTC:20250127T203000
DTSTAMP:20260420T191115
CREATED:20241217T155600Z
LAST-MODIFIED:20241217T155600Z
UID:1138-1738002600-1738009800@erniebedell.com
SUMMARY:Arthur Duncan Trio
DESCRIPTION:
URL:https://erniebedell.com/event/arthur-duncan-trio-101/
LOCATION:Where House Bar\, 2463 W. Sunshine St. #120\, SPRINGFIELD\, MO\, 65807\, United States
END:VEVENT
BEGIN:VEVENT
DTSTART;TZID=UTC:20250120T183000
DTEND;TZID=UTC:20250120T203000
DTSTAMP:20260420T191115
CREATED:20241217T155404Z
LAST-MODIFIED:20241217T155404Z
UID:1136-1737397800-1737405000@erniebedell.com
SUMMARY:Arthur Duncan Trio
DESCRIPTION:
URL:https://erniebedell.com/event/arthur-duncan-trio-100/
LOCATION:Where House Bar\, 2463 W. Sunshine St. #120\, SPRINGFIELD\, MO\, 65807\, United States
END:VEVENT
BEGIN:VEVENT
DTSTART;TZID=UTC:20250113T183000
DTEND;TZID=UTC:20250113T203000
DTSTAMP:20260420T191115
CREATED:20241217T155334Z
LAST-MODIFIED:20241217T155334Z
UID:1134-1736793000-1736800200@erniebedell.com
SUMMARY:Arthur Duncan Trio
DESCRIPTION:
URL:https://erniebedell.com/event/arthur-duncan-trio-99/
LOCATION:Where House Bar\, 2463 W. Sunshine St. #120\, SPRINGFIELD\, MO\, 65807\, United States
END:VEVENT
BEGIN:VEVENT
DTSTART;TZID=UTC:20250106T183000
DTEND;TZID=UTC:20250106T203000
DTSTAMP:20260420T191115
CREATED:20241217T155301Z
LAST-MODIFIED:20241217T155301Z
UID:1132-1736188200-1736195400@erniebedell.com
SUMMARY:Arthur Duncan Trio
DESCRIPTION:
URL:https://erniebedell.com/event/arthur-duncan-trio-98/
LOCATION:Where House Bar\, 2463 W. Sunshine St. #120\, SPRINGFIELD\, MO\, 65807\, United States
END:VEVENT
BEGIN:VEVENT
DTSTART;TZID=UTC:20241230T183000
DTEND;TZID=UTC:20241230T203000
DTSTAMP:20260420T191115
CREATED:20241115T160948Z
LAST-MODIFIED:20241115T162541Z
UID:1127-1735583400-1735590600@erniebedell.com
SUMMARY:Arthur Duncan Trio
DESCRIPTION:
URL:https://erniebedell.com/event/arthur-duncan-trio-96/
LOCATION:Where House Bar\, 2463 W. Sunshine St. #120\, SPRINGFIELD\, MO\, 65807\, United States
END:VEVENT
BEGIN:VEVENT
DTSTART;TZID=UTC:20241227T180000
DTEND;TZID=UTC:20241227T210000
DTSTAMP:20260420T191115
CREATED:20241217T153243Z
LAST-MODIFIED:20241217T153243Z
UID:1130-1735322400-1735333200@erniebedell.com
SUMMARY:Arthur Duncan Trio
DESCRIPTION:
URL:https://erniebedell.com/event/arthur-duncan-trio-97/
LOCATION:Jazzy B’s\, 320 SW Blue Pkwy\, Lee's Summit\, MO\, 64063\, United States
END:VEVENT
BEGIN:VEVENT
DTSTART;TZID=UTC:20241223T183000
DTEND;TZID=UTC:20241223T203000
DTSTAMP:20260420T191115
CREATED:20241115T160910Z
LAST-MODIFIED:20241115T160910Z
UID:1125-1734978600-1734985800@erniebedell.com
SUMMARY:Arthur Duncan Trio
DESCRIPTION:
URL:https://erniebedell.com/event/arthur-duncan-trio-95/
LOCATION:Where House Bar\, 2463 W. Sunshine St. #120\, SPRINGFIELD\, MO\, 65807\, United States
END:VEVENT
BEGIN:VEVENT
DTSTART;TZID=UTC:20241216T183000
DTEND;TZID=UTC:20241216T203000
DTSTAMP:20260420T191115
CREATED:20241115T160821Z
LAST-MODIFIED:20241115T160821Z
UID:1123-1734373800-1734381000@erniebedell.com
SUMMARY:Arthur Duncan Trio
DESCRIPTION:
URL:https://erniebedell.com/event/arthur-duncan-trio-94/
LOCATION:Where House Bar\, 2463 W. Sunshine St. #120\, SPRINGFIELD\, MO\, 65807\, United States
END:VEVENT
BEGIN:VEVENT
DTSTART;TZID=UTC:20241209T183000
DTEND;TZID=UTC:20241209T203000
DTSTAMP:20260420T191115
CREATED:20241115T160727Z
LAST-MODIFIED:20241115T160727Z
UID:1121-1733769000-1733776200@erniebedell.com
SUMMARY:Arthur Duncan Trio
DESCRIPTION:
URL:https://erniebedell.com/event/arthur-duncan-trio-93/
LOCATION:Where House Bar\, 2463 W. Sunshine St. #120\, SPRINGFIELD\, MO\, 65807\, United States
END:VEVENT
BEGIN:VEVENT
DTSTART;TZID=UTC:20241202T183000
DTEND;TZID=UTC:20241202T203000
DTSTAMP:20260420T191115
CREATED:20241115T160656Z
LAST-MODIFIED:20241115T160656Z
UID:1119-1733164200-1733171400@erniebedell.com
SUMMARY:Arthur Duncan Trio
DESCRIPTION:
URL:https://erniebedell.com/event/arthur-duncan-trio-92/
LOCATION:Where House Bar\, 2463 W. Sunshine St. #120\, SPRINGFIELD\, MO\, 65807\, United States
END:VEVENT
BEGIN:VEVENT
DTSTART;TZID=UTC:20241125T183000
DTEND;TZID=UTC:20241125T203000
DTSTAMP:20260420T191115
CREATED:20241115T160621Z
LAST-MODIFIED:20241115T160621Z
UID:1117-1732559400-1732566600@erniebedell.com
SUMMARY:Arthur Duncan Trio
DESCRIPTION:
URL:https://erniebedell.com/event/arthur-duncan-trio-91/
LOCATION:Where House Bar\, 2463 W. Sunshine St. #120\, SPRINGFIELD\, MO\, 65807\, United States
END:VEVENT
BEGIN:VEVENT
DTSTART;TZID=UTC:20241118T183000
DTEND;TZID=UTC:20241118T203000
DTSTAMP:20260420T191115
CREATED:20241115T160532Z
LAST-MODIFIED:20241115T160532Z
UID:1115-1731954600-1731961800@erniebedell.com
SUMMARY:Arthur Duncan Trio
DESCRIPTION:
URL:https://erniebedell.com/event/arthur-duncan-trio-90/
LOCATION:Where House Bar\, 2463 W. Sunshine St. #120\, SPRINGFIELD\, MO\, 65807\, United States
END:VEVENT
END:VCALENDAR