BEGIN:VCALENDAR
VERSION:2.0
PRODID:-//Ernie Bedell - ECPv6.15.17.1//NONSGML v1.0//EN
CALSCALE:GREGORIAN
METHOD:PUBLISH
X-WR-CALNAME:Ernie Bedell
X-ORIGINAL-URL:https://erniebedell.com
X-WR-CALDESC:Events for Ernie Bedell
REFRESH-INTERVAL;VALUE=DURATION:PT1H
X-Robots-Tag:noindex
X-PUBLISHED-TTL:PT1H
BEGIN:VTIMEZONE
TZID:UTC
BEGIN:STANDARD
TZOFFSETFROM:+0000
TZOFFSETTO:+0000
TZNAME:UTC
DTSTART:20230101T000000
END:STANDARD
END:VTIMEZONE
BEGIN:VEVENT
DTSTART;TZID=UTC:20241007T183000
DTEND;TZID=UTC:20241007T203000
DTSTAMP:20260420T213752
CREATED:20241003T191306Z
LAST-MODIFIED:20241003T191306Z
UID:1087-1728325800-1728333000@erniebedell.com
SUMMARY:Arthur Duncan Trio
DESCRIPTION:
URL:https://erniebedell.com/event/arthur-duncan-trio-85/
LOCATION:Where House Bar\, 2463 W. Sunshine St. #120\, SPRINGFIELD\, MO\, 65807\, United States
END:VEVENT
BEGIN:VEVENT
DTSTART;TZID=UTC:20240930T183000
DTEND;TZID=UTC:20240930T203000
DTSTAMP:20260420T213752
CREATED:20240904T205427Z
LAST-MODIFIED:20240904T205604Z
UID:1084-1727721000-1727728200@erniebedell.com
SUMMARY:Arthur Duncan Trio
DESCRIPTION:
URL:https://erniebedell.com/event/arthur-duncan-trio-84/
LOCATION:Where House Bar\, 2463 W. Sunshine St. #120\, SPRINGFIELD\, MO\, 65807\, United States
END:VEVENT
BEGIN:VEVENT
DTSTART;TZID=UTC:20240923T183000
DTEND;TZID=UTC:20240923T203000
DTSTAMP:20260420T213752
CREATED:20240904T205354Z
LAST-MODIFIED:20240904T205402Z
UID:1082-1727116200-1727123400@erniebedell.com
SUMMARY:Arthur Duncan Trio
DESCRIPTION:
URL:https://erniebedell.com/event/arthur-duncan-trio-83/
LOCATION:Where House Bar\, 2463 W. Sunshine St. #120\, SPRINGFIELD\, MO\, 65807\, United States
END:VEVENT
BEGIN:VEVENT
DTSTART;TZID=UTC:20240918T190000
DTEND;TZID=UTC:20240918T210000
DTSTAMP:20260420T213752
CREATED:20240904T204502Z
LAST-MODIFIED:20240904T204502Z
UID:1068-1726686000-1726693200@erniebedell.com
SUMMARY:Arthur Duncan Trio
DESCRIPTION:
URL:https://erniebedell.com/event/arthur-duncan-trio-78/
LOCATION:Marty’s Sports Bar\, 3322 S Campbell Ave\, SPRINGFIELD\, MO\, 65802\, United States
END:VEVENT
BEGIN:VEVENT
DTSTART;TZID=UTC:20240916T183000
DTEND;TZID=UTC:20240916T203000
DTSTAMP:20260420T213752
CREATED:20240904T205301Z
LAST-MODIFIED:20240904T205301Z
UID:1080-1726511400-1726518600@erniebedell.com
SUMMARY:Arthur Duncan Trio
DESCRIPTION:
URL:https://erniebedell.com/event/arthur-duncan-trio-82/
LOCATION:Where House Bar\, 2463 W. Sunshine St. #120\, SPRINGFIELD\, MO\, 65807\, United States
END:VEVENT
BEGIN:VEVENT
DTSTART;TZID=UTC:20240911T190000
DTEND;TZID=UTC:20240911T210000
DTSTAMP:20260420T213752
CREATED:20240904T204421Z
LAST-MODIFIED:20240904T204421Z
UID:1066-1726081200-1726088400@erniebedell.com
SUMMARY:Arthur Duncan Trio
DESCRIPTION:
URL:https://erniebedell.com/event/arthur-duncan-trio-77/
LOCATION:Marty’s Sports Bar\, 3322 S Campbell Ave\, SPRINGFIELD\, MO\, 65802\, United States
END:VEVENT
BEGIN:VEVENT
DTSTART;TZID=UTC:20240909T183000
DTEND;TZID=UTC:20240909T203000
DTSTAMP:20260420T213752
CREATED:20240904T205230Z
LAST-MODIFIED:20240904T205230Z
UID:1078-1725906600-1725913800@erniebedell.com
SUMMARY:Arthur Duncan Trio
DESCRIPTION:
URL:https://erniebedell.com/event/arthur-duncan-trio-81/
LOCATION:Where House Bar\, 2463 W. Sunshine St. #120\, SPRINGFIELD\, MO\, 65807\, United States
END:VEVENT
BEGIN:VEVENT
DTSTART;TZID=UTC:20240904T190000
DTEND;TZID=UTC:20240904T210000
DTSTAMP:20260420T213752
CREATED:20240904T204346Z
LAST-MODIFIED:20240904T204346Z
UID:1064-1725476400-1725483600@erniebedell.com
SUMMARY:Arthur Duncan Trio
DESCRIPTION:
URL:https://erniebedell.com/event/arthur-duncan-trio-76/
LOCATION:Marty’s Sports Bar\, 3322 S Campbell Ave\, SPRINGFIELD\, MO\, 65802\, United States
END:VEVENT
BEGIN:VEVENT
DTSTART;TZID=UTC:20240902T183000
DTEND;TZID=UTC:20240902T203000
DTSTAMP:20260420T213752
CREATED:20240904T204539Z
LAST-MODIFIED:20240904T205142Z
UID:1070-1725301800-1725309000@erniebedell.com
SUMMARY:Arthur Duncan Trio
DESCRIPTION:
URL:https://erniebedell.com/event/arthur-duncan-trio-79/
LOCATION:Where House Bar\, 2463 W. Sunshine St. #120\, SPRINGFIELD\, MO\, 65807\, United States
END:VEVENT
BEGIN:VEVENT
DTSTART;TZID=UTC:20240828T190000
DTEND;TZID=UTC:20240828T210000
DTSTAMP:20260420T213752
CREATED:20240702T172432Z
LAST-MODIFIED:20240702T172432Z
UID:1061-1724871600-1724878800@erniebedell.com
SUMMARY:Arthur Duncan Trio
DESCRIPTION:
URL:https://erniebedell.com/event/arthur-duncan-trio-75/
LOCATION:Marty’s Sports Bar\, 3322 S Campbell Ave\, SPRINGFIELD\, MO\, 65802\, United States
END:VEVENT
BEGIN:VEVENT
DTSTART;TZID=UTC:20240826T183000
DTEND;TZID=UTC:20240826T203000
DTSTAMP:20260420T213752
CREATED:20240702T172348Z
LAST-MODIFIED:20240702T172348Z
UID:1059-1724697000-1724704200@erniebedell.com
SUMMARY:Arthur Duncan Trio
DESCRIPTION:
URL:https://erniebedell.com/event/arthur-duncan-trio-74/
LOCATION:Where House Bar\, 2463 W. Sunshine St. #120\, SPRINGFIELD\, MO\, 65807\, United States
END:VEVENT
BEGIN:VEVENT
DTSTART;TZID=UTC:20240821T190000
DTEND;TZID=UTC:20240821T210000
DTSTAMP:20260420T213752
CREATED:20240702T172313Z
LAST-MODIFIED:20240702T172313Z
UID:1057-1724266800-1724274000@erniebedell.com
SUMMARY:Arthur Duncan Trio
DESCRIPTION:
URL:https://erniebedell.com/event/arthur-duncan-trio-73/
LOCATION:Marty’s Sports Bar\, 3322 S Campbell Ave\, SPRINGFIELD\, MO\, 65802\, United States
END:VEVENT
BEGIN:VEVENT
DTSTART;TZID=UTC:20240819T183000
DTEND;TZID=UTC:20240819T203000
DTSTAMP:20260420T213752
CREATED:20240702T172235Z
LAST-MODIFIED:20240702T172235Z
UID:1055-1724092200-1724099400@erniebedell.com
SUMMARY:Arthur Duncan Trio
DESCRIPTION:
URL:https://erniebedell.com/event/arthur-duncan-trio-72/
LOCATION:Where House Bar\, 2463 W. Sunshine St. #120\, SPRINGFIELD\, MO\, 65807\, United States
END:VEVENT
BEGIN:VEVENT
DTSTART;TZID=UTC:20240814T190000
DTEND;TZID=UTC:20240814T210000
DTSTAMP:20260420T213752
CREATED:20240702T172201Z
LAST-MODIFIED:20240702T172201Z
UID:1053-1723662000-1723669200@erniebedell.com
SUMMARY:Arthur Duncan Trio
DESCRIPTION:
URL:https://erniebedell.com/event/arthur-duncan-trio-71/
LOCATION:Marty’s Sports Bar\, 3322 S Campbell Ave\, SPRINGFIELD\, MO\, 65802\, United States
END:VEVENT
BEGIN:VEVENT
DTSTART;TZID=UTC:20240812T183000
DTEND;TZID=UTC:20240812T203000
DTSTAMP:20260420T213752
CREATED:20240702T172110Z
LAST-MODIFIED:20240702T172110Z
UID:1051-1723487400-1723494600@erniebedell.com
SUMMARY:Arthur Duncan Trio
DESCRIPTION:
URL:https://erniebedell.com/event/arthur-duncan-trio-70/
LOCATION:Where House Bar\, 2463 W. Sunshine St. #120\, SPRINGFIELD\, MO\, 65807\, United States
END:VEVENT
BEGIN:VEVENT
DTSTART;TZID=UTC:20240808T190000
DTEND;TZID=UTC:20240808T210000
DTSTAMP:20260420T213752
CREATED:20240702T172033Z
LAST-MODIFIED:20240702T172033Z
UID:1049-1723143600-1723150800@erniebedell.com
SUMMARY:Arthur Duncan Trio
DESCRIPTION:
URL:https://erniebedell.com/event/arthur-duncan-trio-69/
LOCATION:Marty’s Sports Bar\, 3322 S Campbell Ave\, SPRINGFIELD\, MO\, 65802\, United States
END:VEVENT
BEGIN:VEVENT
DTSTART;TZID=UTC:20240805T183000
DTEND;TZID=UTC:20240805T203000
DTSTAMP:20260420T213752
CREATED:20240702T172000Z
LAST-MODIFIED:20240702T172000Z
UID:1047-1722882600-1722889800@erniebedell.com
SUMMARY:Arthur Duncan Trio
DESCRIPTION:
URL:https://erniebedell.com/event/arthur-duncan-trio-68/
LOCATION:Where House Bar\, 2463 W. Sunshine St. #120\, SPRINGFIELD\, MO\, 65807\, United States
END:VEVENT
BEGIN:VEVENT
DTSTART;TZID=UTC:20240731T190000
DTEND;TZID=UTC:20240731T210000
DTSTAMP:20260420T213752
CREATED:20240702T171431Z
LAST-MODIFIED:20240702T171431Z
UID:1045-1722452400-1722459600@erniebedell.com
SUMMARY:Arthur Duncan Trio
DESCRIPTION:
URL:https://erniebedell.com/event/arthur-duncan-trio-67/
LOCATION:Marty’s Sports Bar\, 3322 S Campbell Ave\, SPRINGFIELD\, MO\, 65802\, United States
END:VEVENT
BEGIN:VEVENT
DTSTART;TZID=UTC:20240729T183000
DTEND;TZID=UTC:20240729T203000
DTSTAMP:20260420T213752
CREATED:20240702T171323Z
LAST-MODIFIED:20240702T171758Z
UID:1043-1722277800-1722285000@erniebedell.com
SUMMARY:Arthur Duncan Trio
DESCRIPTION:
URL:https://erniebedell.com/event/arthur-duncan-trio-66/
LOCATION:Where House Bar\, 2463 W. Sunshine St. #120\, SPRINGFIELD\, MO\, 65807\, United States
END:VEVENT
BEGIN:VEVENT
DTSTART;TZID=UTC:20240724T190000
DTEND;TZID=UTC:20240724T210000
DTSTAMP:20260420T213752
CREATED:20240702T171247Z
LAST-MODIFIED:20240702T171739Z
UID:1041-1721847600-1721854800@erniebedell.com
SUMMARY:Arthur Duncan Trio
DESCRIPTION:
URL:https://erniebedell.com/event/arthur-duncan-trio-65/
LOCATION:Marty’s Sports Bar\, 3322 S Campbell Ave\, SPRINGFIELD\, MO\, 65802\, United States
END:VEVENT
BEGIN:VEVENT
DTSTART;TZID=UTC:20240722T183000
DTEND;TZID=UTC:20240722T203000
DTSTAMP:20260420T213752
CREATED:20240702T171214Z
LAST-MODIFIED:20240702T171646Z
UID:1039-1721673000-1721680200@erniebedell.com
SUMMARY:Arthur Duncan Trio
DESCRIPTION:
URL:https://erniebedell.com/event/arthur-duncan-trio-64/
LOCATION:Where House Bar\, 2463 W. Sunshine St. #120\, SPRINGFIELD\, MO\, 65807\, United States
END:VEVENT
BEGIN:VEVENT
DTSTART;TZID=UTC:20240717T190000
DTEND;TZID=UTC:20240717T210000
DTSTAMP:20260420T213752
CREATED:20240702T171139Z
LAST-MODIFIED:20240702T171139Z
UID:1037-1721242800-1721250000@erniebedell.com
SUMMARY:Arthur Duncan Trio
DESCRIPTION:
URL:https://erniebedell.com/event/arthur-duncan-trio-63/
LOCATION:Marty’s Sports Bar\, 3322 S Campbell Ave\, SPRINGFIELD\, MO\, 65802\, United States
END:VEVENT
BEGIN:VEVENT
DTSTART;TZID=UTC:20240715T183000
DTEND;TZID=UTC:20240715T203000
DTSTAMP:20260420T213752
CREATED:20240702T171040Z
LAST-MODIFIED:20240702T171040Z
UID:1035-1721068200-1721075400@erniebedell.com
SUMMARY:Arthur Duncan Trio
DESCRIPTION:
URL:https://erniebedell.com/event/arthur-duncan-trio-62/
LOCATION:Where House Bar\, 2463 W. Sunshine St. #120\, SPRINGFIELD\, MO\, 65807\, United States
END:VEVENT
BEGIN:VEVENT
DTSTART;TZID=UTC:20240710T190000
DTEND;TZID=UTC:20240710T210000
DTSTAMP:20260420T213752
CREATED:20240702T170958Z
LAST-MODIFIED:20240702T170958Z
UID:1033-1720638000-1720645200@erniebedell.com
SUMMARY:Arthur Duncan Trio
DESCRIPTION:
URL:https://erniebedell.com/event/arthur-duncan-trio-61/
LOCATION:Marty’s Sports Bar\, 3322 S Campbell Ave\, SPRINGFIELD\, MO\, 65802\, United States
END:VEVENT
BEGIN:VEVENT
DTSTART;TZID=UTC:20240708T183000
DTEND;TZID=UTC:20240708T203000
DTSTAMP:20260420T213752
CREATED:20240702T170914Z
LAST-MODIFIED:20240702T170914Z
UID:1031-1720463400-1720470600@erniebedell.com
SUMMARY:Arthur Duncan Trio
DESCRIPTION:
URL:https://erniebedell.com/event/arthur-duncan-trio-60/
LOCATION:Where House Bar\, 2463 W. Sunshine St. #120\, SPRINGFIELD\, MO\, 65807\, United States
END:VEVENT
BEGIN:VEVENT
DTSTART;TZID=UTC:20240703T190000
DTEND;TZID=UTC:20240703T210000
DTSTAMP:20260420T213752
CREATED:20240702T170826Z
LAST-MODIFIED:20240702T170826Z
UID:1029-1720033200-1720040400@erniebedell.com
SUMMARY:Arthur Duncan Trio
DESCRIPTION:
URL:https://erniebedell.com/event/arthur-duncan-trio-59/
LOCATION:Marty’s Sports Bar\, 3322 S Campbell Ave\, SPRINGFIELD\, MO\, 65802\, United States
END:VEVENT
BEGIN:VEVENT
DTSTART;TZID=UTC:20240701T183000
DTEND;TZID=UTC:20240701T203000
DTSTAMP:20260420T213752
CREATED:20240702T170736Z
LAST-MODIFIED:20240702T170736Z
UID:1027-1719858600-1719865800@erniebedell.com
SUMMARY:Arthur Duncan Trio
DESCRIPTION:
URL:https://erniebedell.com/event/arthur-duncan-trio-58/
LOCATION:Where House Bar\, 2463 W. Sunshine St. #120\, SPRINGFIELD\, MO\, 65807\, United States
END:VEVENT
BEGIN:VEVENT
DTSTART;TZID=UTC:20240626T190000
DTEND;TZID=UTC:20240626T210000
DTSTAMP:20260420T213752
CREATED:20240515T172509Z
LAST-MODIFIED:20240515T172509Z
UID:1024-1719428400-1719435600@erniebedell.com
SUMMARY:Arthur Duncan Trio
DESCRIPTION:
URL:https://erniebedell.com/event/arthur-duncan-trio-57/
LOCATION:Marty’s Sports Bar\, 3322 S Campbell Ave\, SPRINGFIELD\, MO\, 65802\, United States
END:VEVENT
BEGIN:VEVENT
DTSTART;TZID=UTC:20240624T183000
DTEND;TZID=UTC:20240624T203000
DTSTAMP:20260420T213752
CREATED:20240515T172256Z
LAST-MODIFIED:20240515T172256Z
UID:1016-1719253800-1719261000@erniebedell.com
SUMMARY:Arthur Duncan Trio
DESCRIPTION:
URL:https://erniebedell.com/event/arthur-duncan-trio-53/
LOCATION:Where House Bar\, 2463 W. Sunshine St. #120\, SPRINGFIELD\, MO\, 65807\, United States
END:VEVENT
BEGIN:VEVENT
DTSTART;TZID=UTC:20240619T190000
DTEND;TZID=UTC:20240619T210000
DTSTAMP:20260420T213752
CREATED:20240515T172434Z
LAST-MODIFIED:20240515T172434Z
UID:1022-1718823600-1718830800@erniebedell.com
SUMMARY:Arthur Duncan Trio
DESCRIPTION:
URL:https://erniebedell.com/event/arthur-duncan-trio-56/
LOCATION:Marty’s Sports Bar\, 3322 S Campbell Ave\, SPRINGFIELD\, MO\, 65802\, United States
END:VEVENT
END:VCALENDAR